BEGIN:VCALENDAR
VERSION:2.0
PRODID:-//Moderation Management™ - ECPv6.15.20//NONSGML v1.0//EN
CALSCALE:GREGORIAN
METHOD:PUBLISH
X-WR-CALNAME:Moderation Management™
X-ORIGINAL-URL:https://moderation.org
X-WR-CALDESC:Events for Moderation Management™
REFRESH-INTERVAL;VALUE=DURATION:PT1H
X-Robots-Tag:noindex
X-PUBLISHED-TTL:PT1H
BEGIN:VTIMEZONE
TZID:America/New_York
BEGIN:DAYLIGHT
TZOFFSETFROM:-0500
TZOFFSETTO:-0400
TZNAME:EDT
DTSTART:20250309T070000
END:DAYLIGHT
BEGIN:STANDARD
TZOFFSETFROM:-0400
TZOFFSETTO:-0500
TZNAME:EST
DTSTART:20251102T060000
END:STANDARD
BEGIN:DAYLIGHT
TZOFFSETFROM:-0500
TZOFFSETTO:-0400
TZNAME:EDT
DTSTART:20260308T070000
END:DAYLIGHT
BEGIN:STANDARD
TZOFFSETFROM:-0400
TZOFFSETTO:-0500
TZNAME:EST
DTSTART:20261101T060000
END:STANDARD
BEGIN:DAYLIGHT
TZOFFSETFROM:-0500
TZOFFSETTO:-0400
TZNAME:EDT
DTSTART:20270314T070000
END:DAYLIGHT
BEGIN:STANDARD
TZOFFSETFROM:-0400
TZOFFSETTO:-0500
TZNAME:EST
DTSTART:20271107T060000
END:STANDARD
END:VTIMEZONE
BEGIN:VEVENT
DTSTART;TZID=America/New_York:20260422T190000
DTEND;TZID=America/New_York:20260422T203000
DTSTAMP:20260425T202211
CREATED:20250821T192757Z
LAST-MODIFIED:20250826T175856Z
UID:10091945-1776884400-1776889800@moderation.org
SUMMARY:MM Men’s Video Meeting - NEW Extended time!
DESCRIPTION:The MM Men’s Video Meeting is a Meeting for Men\, about Men’s issues. \nMeeting every Wednesday\, at 7PM Eastern\, 4PM Pacific\, 5PM Mountain\, 6PM Central Time for 90 minutes. \nTo join the meeting click here!
URL:https://moderation.org/events/mm-mens-video-meeting-2-2/2026-04-22/
CATEGORIES:Video Meeting
ATTACH;FMTTYPE=image/jpeg:https://moderation.org/wp-content/uploads/2021/08/surface-wK2lihxIwZ0-unsplash-scaled.jpg
ORGANIZER;CN="Moderation Management":MAILTO:meetings@moderation.org
END:VEVENT
BEGIN:VEVENT
DTSTART;TZID=America/New_York:20260420T180000
DTEND;TZID=America/New_York:20260420T190000
DTSTAMP:20260425T202211
CREATED:20251107T195555Z
LAST-MODIFIED:20251219T162723Z
UID:10092477-1776708000-1776711600@moderation.org
SUMMARY:NEW! Neighbors in Change MM Meeting
DESCRIPTION:Join us to learn tools and coping skills that can help you make healthier lifestyle changes as they relate to drinking. This online meeting will feature a rotating topic and group discussion. Our group is newcomer friendly! This is not an abstinence based meeting\, though abstainers are always welcome. \nEvery Monday 6pm – 7pm Eastern (5pm Central\, 4pm Mountain\, 3pm Pacific) \nTo join via Zoom\, please click here.\n 
URL:https://moderation.org/events/new-neighbors-in-change-hybrid-mm-meeting-in-nj-2/2026-04-20/
CATEGORIES:Video Meeting
ATTACH;FMTTYPE=image/jpeg:https://moderation.org/wp-content/uploads/2025/12/7broti_qaa4.jpg
ORGANIZER;CN="Moderation Management":MAILTO:meetings@moderation.org
END:VEVENT
BEGIN:VEVENT
DTSTART;TZID=America/New_York:20260415T190000
DTEND;TZID=America/New_York:20260415T203000
DTSTAMP:20260425T202211
CREATED:20250821T192757Z
LAST-MODIFIED:20250826T175856Z
UID:10091944-1776279600-1776285000@moderation.org
SUMMARY:MM Men’s Video Meeting - NEW Extended time!
DESCRIPTION:The MM Men’s Video Meeting is a Meeting for Men\, about Men’s issues. \nMeeting every Wednesday\, at 7PM Eastern\, 4PM Pacific\, 5PM Mountain\, 6PM Central Time for 90 minutes. \nTo join the meeting click here!
URL:https://moderation.org/events/mm-mens-video-meeting-2-2/2026-04-15/
CATEGORIES:Video Meeting
ATTACH;FMTTYPE=image/jpeg:https://moderation.org/wp-content/uploads/2021/08/surface-wK2lihxIwZ0-unsplash-scaled.jpg
ORGANIZER;CN="Moderation Management":MAILTO:meetings@moderation.org
END:VEVENT
BEGIN:VEVENT
DTSTART;TZID=America/New_York:20260413T180000
DTEND;TZID=America/New_York:20260413T190000
DTSTAMP:20260425T202211
CREATED:20251107T195555Z
LAST-MODIFIED:20251219T162723Z
UID:10092476-1776103200-1776106800@moderation.org
SUMMARY:NEW! Neighbors in Change MM Meeting
DESCRIPTION:Join us to learn tools and coping skills that can help you make healthier lifestyle changes as they relate to drinking. This online meeting will feature a rotating topic and group discussion. Our group is newcomer friendly! This is not an abstinence based meeting\, though abstainers are always welcome. \nEvery Monday 6pm – 7pm Eastern (5pm Central\, 4pm Mountain\, 3pm Pacific) \nTo join via Zoom\, please click here.\n 
URL:https://moderation.org/events/new-neighbors-in-change-hybrid-mm-meeting-in-nj-2/2026-04-13/
CATEGORIES:Video Meeting
ATTACH;FMTTYPE=image/jpeg:https://moderation.org/wp-content/uploads/2025/12/7broti_qaa4.jpg
ORGANIZER;CN="Moderation Management":MAILTO:meetings@moderation.org
END:VEVENT
BEGIN:VEVENT
DTSTART;TZID=America/New_York:20260408T190000
DTEND;TZID=America/New_York:20260408T203000
DTSTAMP:20260425T202211
CREATED:20250821T192757Z
LAST-MODIFIED:20250826T175856Z
UID:10091943-1775674800-1775680200@moderation.org
SUMMARY:MM Men’s Video Meeting - NEW Extended time!
DESCRIPTION:The MM Men’s Video Meeting is a Meeting for Men\, about Men’s issues. \nMeeting every Wednesday\, at 7PM Eastern\, 4PM Pacific\, 5PM Mountain\, 6PM Central Time for 90 minutes. \nTo join the meeting click here!
URL:https://moderation.org/events/mm-mens-video-meeting-2-2/2026-04-08/
CATEGORIES:Video Meeting
ATTACH;FMTTYPE=image/jpeg:https://moderation.org/wp-content/uploads/2021/08/surface-wK2lihxIwZ0-unsplash-scaled.jpg
ORGANIZER;CN="Moderation Management":MAILTO:meetings@moderation.org
END:VEVENT
BEGIN:VEVENT
DTSTART;TZID=America/New_York:20260406T180000
DTEND;TZID=America/New_York:20260406T190000
DTSTAMP:20260425T202211
CREATED:20251107T195555Z
LAST-MODIFIED:20251219T162723Z
UID:10092475-1775498400-1775502000@moderation.org
SUMMARY:NEW! Neighbors in Change MM Meeting
DESCRIPTION:Join us to learn tools and coping skills that can help you make healthier lifestyle changes as they relate to drinking. This online meeting will feature a rotating topic and group discussion. Our group is newcomer friendly! This is not an abstinence based meeting\, though abstainers are always welcome. \nEvery Monday 6pm – 7pm Eastern (5pm Central\, 4pm Mountain\, 3pm Pacific) \nTo join via Zoom\, please click here.\n 
URL:https://moderation.org/events/new-neighbors-in-change-hybrid-mm-meeting-in-nj-2/2026-04-06/
CATEGORIES:Video Meeting
ATTACH;FMTTYPE=image/jpeg:https://moderation.org/wp-content/uploads/2025/12/7broti_qaa4.jpg
ORGANIZER;CN="Moderation Management":MAILTO:meetings@moderation.org
END:VEVENT
BEGIN:VEVENT
DTSTART;TZID=America/New_York:20260401T190000
DTEND;TZID=America/New_York:20260401T203000
DTSTAMP:20260425T202211
CREATED:20250821T192757Z
LAST-MODIFIED:20250826T175856Z
UID:10091942-1775070000-1775075400@moderation.org
SUMMARY:MM Men’s Video Meeting - NEW Extended time!
DESCRIPTION:The MM Men’s Video Meeting is a Meeting for Men\, about Men’s issues. \nMeeting every Wednesday\, at 7PM Eastern\, 4PM Pacific\, 5PM Mountain\, 6PM Central Time for 90 minutes. \nTo join the meeting click here!
URL:https://moderation.org/events/mm-mens-video-meeting-2-2/2026-04-01/
CATEGORIES:Video Meeting
ATTACH;FMTTYPE=image/jpeg:https://moderation.org/wp-content/uploads/2021/08/surface-wK2lihxIwZ0-unsplash-scaled.jpg
ORGANIZER;CN="Moderation Management":MAILTO:meetings@moderation.org
END:VEVENT
BEGIN:VEVENT
DTSTART;TZID=America/New_York:20260330T180000
DTEND;TZID=America/New_York:20260330T190000
DTSTAMP:20260425T202211
CREATED:20251107T195555Z
LAST-MODIFIED:20251219T162723Z
UID:10092474-1774893600-1774897200@moderation.org
SUMMARY:NEW! Neighbors in Change MM Meeting
DESCRIPTION:Join us to learn tools and coping skills that can help you make healthier lifestyle changes as they relate to drinking. This online meeting will feature a rotating topic and group discussion. Our group is newcomer friendly! This is not an abstinence based meeting\, though abstainers are always welcome. \nEvery Monday 6pm – 7pm Eastern (5pm Central\, 4pm Mountain\, 3pm Pacific) \nTo join via Zoom\, please click here.\n 
URL:https://moderation.org/events/new-neighbors-in-change-hybrid-mm-meeting-in-nj-2/2026-03-30/
CATEGORIES:Video Meeting
ATTACH;FMTTYPE=image/jpeg:https://moderation.org/wp-content/uploads/2025/12/7broti_qaa4.jpg
ORGANIZER;CN="Moderation Management":MAILTO:meetings@moderation.org
END:VEVENT
BEGIN:VEVENT
DTSTART;TZID=America/New_York:20260325T190000
DTEND;TZID=America/New_York:20260325T203000
DTSTAMP:20260425T202211
CREATED:20250821T192757Z
LAST-MODIFIED:20250826T175856Z
UID:10091941-1774465200-1774470600@moderation.org
SUMMARY:MM Men’s Video Meeting - NEW Extended time!
DESCRIPTION:The MM Men’s Video Meeting is a Meeting for Men\, about Men’s issues. \nMeeting every Wednesday\, at 7PM Eastern\, 4PM Pacific\, 5PM Mountain\, 6PM Central Time for 90 minutes. \nTo join the meeting click here!
URL:https://moderation.org/events/mm-mens-video-meeting-2-2/2026-03-25/
CATEGORIES:Video Meeting
ATTACH;FMTTYPE=image/jpeg:https://moderation.org/wp-content/uploads/2021/08/surface-wK2lihxIwZ0-unsplash-scaled.jpg
ORGANIZER;CN="Moderation Management":MAILTO:meetings@moderation.org
END:VEVENT
END:VCALENDAR