BEGIN:VCALENDAR
VERSION:2.0
PRODID:-//Moderation Management™ - ECPv6.15.20//NONSGML v1.0//EN
CALSCALE:GREGORIAN
METHOD:PUBLISH
X-ORIGINAL-URL:https://moderation.org
X-WR-CALDESC:Events for Moderation Management™
REFRESH-INTERVAL;VALUE=DURATION:PT1H
X-Robots-Tag:noindex
X-PUBLISHED-TTL:PT1H
BEGIN:VTIMEZONE
TZID:America/New_York
BEGIN:DAYLIGHT
TZOFFSETFROM:-0500
TZOFFSETTO:-0400
TZNAME:EDT
DTSTART:20250309T070000
END:DAYLIGHT
BEGIN:STANDARD
TZOFFSETFROM:-0400
TZOFFSETTO:-0500
TZNAME:EST
DTSTART:20251102T060000
END:STANDARD
BEGIN:DAYLIGHT
TZOFFSETFROM:-0500
TZOFFSETTO:-0400
TZNAME:EDT
DTSTART:20260308T070000
END:DAYLIGHT
BEGIN:STANDARD
TZOFFSETFROM:-0400
TZOFFSETTO:-0500
TZNAME:EST
DTSTART:20261101T060000
END:STANDARD
BEGIN:DAYLIGHT
TZOFFSETFROM:-0500
TZOFFSETTO:-0400
TZNAME:EDT
DTSTART:20270314T070000
END:DAYLIGHT
BEGIN:STANDARD
TZOFFSETFROM:-0400
TZOFFSETTO:-0500
TZNAME:EST
DTSTART:20271107T060000
END:STANDARD
END:VTIMEZONE
BEGIN:VEVENT
DTSTART;TZID=America/New_York:20260812T190000
DTEND;TZID=America/New_York:20260812T203000
DTSTAMP:20260425T234849
CREATED:20250821T192757Z
LAST-MODIFIED:20250826T175856Z
UID:10091961-1786561200-1786566600@moderation.org
SUMMARY:MM Men’s Video Meeting - NEW Extended time!
DESCRIPTION:The MM Men’s Video Meeting is a Meeting for Men\, about Men’s issues. \nMeeting every Wednesday\, at 7PM Eastern\, 4PM Pacific\, 5PM Mountain\, 6PM Central Time for 90 minutes. \nTo join the meeting click here!
URL:https://moderation.org/events/mm-mens-video-meeting-2-2/2026-08-12/
CATEGORIES:Video Meeting
ATTACH;FMTTYPE=image/jpeg:https://moderation.org/wp-content/uploads/2021/08/surface-wK2lihxIwZ0-unsplash-scaled.jpg
ORGANIZER;CN="Moderation Management":MAILTO:meetings@moderation.org
END:VEVENT
BEGIN:VEVENT
DTSTART;TZID=America/New_York:20260817T180000
DTEND;TZID=America/New_York:20260817T190000
DTSTAMP:20260425T234849
CREATED:20251107T195555Z
LAST-MODIFIED:20251219T162723Z
UID:10092494-1786989600-1786993200@moderation.org
SUMMARY:NEW! Neighbors in Change MM Meeting
DESCRIPTION:Join us to learn tools and coping skills that can help you make healthier lifestyle changes as they relate to drinking. This online meeting will feature a rotating topic and group discussion. Our group is newcomer friendly! This is not an abstinence based meeting\, though abstainers are always welcome. \nEvery Monday 6pm – 7pm Eastern (5pm Central\, 4pm Mountain\, 3pm Pacific) \nTo join via Zoom\, please click here.\n 
URL:https://moderation.org/events/new-neighbors-in-change-hybrid-mm-meeting-in-nj-2/2026-08-17/
CATEGORIES:Video Meeting
ATTACH;FMTTYPE=image/jpeg:https://moderation.org/wp-content/uploads/2025/12/7broti_qaa4.jpg
ORGANIZER;CN="Moderation Management":MAILTO:meetings@moderation.org
END:VEVENT
BEGIN:VEVENT
DTSTART;TZID=America/New_York:20260819T190000
DTEND;TZID=America/New_York:20260819T203000
DTSTAMP:20260425T234849
CREATED:20250821T192757Z
LAST-MODIFIED:20250826T175856Z
UID:10091962-1787166000-1787171400@moderation.org
SUMMARY:MM Men’s Video Meeting - NEW Extended time!
DESCRIPTION:The MM Men’s Video Meeting is a Meeting for Men\, about Men’s issues. \nMeeting every Wednesday\, at 7PM Eastern\, 4PM Pacific\, 5PM Mountain\, 6PM Central Time for 90 minutes. \nTo join the meeting click here!
URL:https://moderation.org/events/mm-mens-video-meeting-2-2/2026-08-19/
CATEGORIES:Video Meeting
ATTACH;FMTTYPE=image/jpeg:https://moderation.org/wp-content/uploads/2021/08/surface-wK2lihxIwZ0-unsplash-scaled.jpg
ORGANIZER;CN="Moderation Management":MAILTO:meetings@moderation.org
END:VEVENT
BEGIN:VEVENT
DTSTART;TZID=America/New_York:20260824T180000
DTEND;TZID=America/New_York:20260824T190000
DTSTAMP:20260425T234849
CREATED:20251107T195555Z
LAST-MODIFIED:20251219T162723Z
UID:10094050-1787594400-1787598000@moderation.org
SUMMARY:NEW! Neighbors in Change MM Meeting
DESCRIPTION:Join us to learn tools and coping skills that can help you make healthier lifestyle changes as they relate to drinking. This online meeting will feature a rotating topic and group discussion. Our group is newcomer friendly! This is not an abstinence based meeting\, though abstainers are always welcome. \nEvery Monday 6pm – 7pm Eastern (5pm Central\, 4pm Mountain\, 3pm Pacific) \nTo join via Zoom\, please click here.\n 
URL:https://moderation.org/events/new-neighbors-in-change-hybrid-mm-meeting-in-nj-2/2026-08-24/
CATEGORIES:Video Meeting
ATTACH;FMTTYPE=image/jpeg:https://moderation.org/wp-content/uploads/2025/12/7broti_qaa4.jpg
ORGANIZER;CN="Moderation Management":MAILTO:meetings@moderation.org
END:VEVENT
BEGIN:VEVENT
DTSTART;TZID=America/New_York:20260826T190000
DTEND;TZID=America/New_York:20260826T203000
DTSTAMP:20260425T234849
CREATED:20250821T192757Z
LAST-MODIFIED:20250826T175856Z
UID:10091963-1787770800-1787776200@moderation.org
SUMMARY:MM Men’s Video Meeting - NEW Extended time!
DESCRIPTION:The MM Men’s Video Meeting is a Meeting for Men\, about Men’s issues. \nMeeting every Wednesday\, at 7PM Eastern\, 4PM Pacific\, 5PM Mountain\, 6PM Central Time for 90 minutes. \nTo join the meeting click here!
URL:https://moderation.org/events/mm-mens-video-meeting-2-2/2026-08-26/
CATEGORIES:Video Meeting
ATTACH;FMTTYPE=image/jpeg:https://moderation.org/wp-content/uploads/2021/08/surface-wK2lihxIwZ0-unsplash-scaled.jpg
ORGANIZER;CN="Moderation Management":MAILTO:meetings@moderation.org
END:VEVENT
BEGIN:VEVENT
DTSTART;TZID=America/New_York:20260831T180000
DTEND;TZID=America/New_York:20260831T190000
DTSTAMP:20260425T234849
CREATED:20251107T195555Z
LAST-MODIFIED:20251219T162723Z
UID:10094051-1788199200-1788202800@moderation.org
SUMMARY:NEW! Neighbors in Change MM Meeting
DESCRIPTION:Join us to learn tools and coping skills that can help you make healthier lifestyle changes as they relate to drinking. This online meeting will feature a rotating topic and group discussion. Our group is newcomer friendly! This is not an abstinence based meeting\, though abstainers are always welcome. \nEvery Monday 6pm – 7pm Eastern (5pm Central\, 4pm Mountain\, 3pm Pacific) \nTo join via Zoom\, please click here.\n 
URL:https://moderation.org/events/new-neighbors-in-change-hybrid-mm-meeting-in-nj-2/2026-08-31/
CATEGORIES:Video Meeting
ATTACH;FMTTYPE=image/jpeg:https://moderation.org/wp-content/uploads/2025/12/7broti_qaa4.jpg
ORGANIZER;CN="Moderation Management":MAILTO:meetings@moderation.org
END:VEVENT
BEGIN:VEVENT
DTSTART;TZID=America/New_York:20260902T190000
DTEND;TZID=America/New_York:20260902T203000
DTSTAMP:20260425T234849
CREATED:20250821T192757Z
LAST-MODIFIED:20250826T175856Z
UID:10091964-1788375600-1788381000@moderation.org
SUMMARY:MM Men’s Video Meeting - NEW Extended time!
DESCRIPTION:The MM Men’s Video Meeting is a Meeting for Men\, about Men’s issues. \nMeeting every Wednesday\, at 7PM Eastern\, 4PM Pacific\, 5PM Mountain\, 6PM Central Time for 90 minutes. \nTo join the meeting click here!
URL:https://moderation.org/events/mm-mens-video-meeting-2-2/2026-09-02/
CATEGORIES:Video Meeting
ATTACH;FMTTYPE=image/jpeg:https://moderation.org/wp-content/uploads/2021/08/surface-wK2lihxIwZ0-unsplash-scaled.jpg
ORGANIZER;CN="Moderation Management":MAILTO:meetings@moderation.org
END:VEVENT
BEGIN:VEVENT
DTSTART;TZID=America/New_York:20260907T180000
DTEND;TZID=America/New_York:20260907T190000
DTSTAMP:20260425T234849
CREATED:20251107T195555Z
LAST-MODIFIED:20251219T162723Z
UID:10094052-1788804000-1788807600@moderation.org
SUMMARY:NEW! Neighbors in Change MM Meeting
DESCRIPTION:Join us to learn tools and coping skills that can help you make healthier lifestyle changes as they relate to drinking. This online meeting will feature a rotating topic and group discussion. Our group is newcomer friendly! This is not an abstinence based meeting\, though abstainers are always welcome. \nEvery Monday 6pm – 7pm Eastern (5pm Central\, 4pm Mountain\, 3pm Pacific) \nTo join via Zoom\, please click here.\n 
URL:https://moderation.org/events/new-neighbors-in-change-hybrid-mm-meeting-in-nj-2/2026-09-07/
CATEGORIES:Video Meeting
ATTACH;FMTTYPE=image/jpeg:https://moderation.org/wp-content/uploads/2025/12/7broti_qaa4.jpg
ORGANIZER;CN="Moderation Management":MAILTO:meetings@moderation.org
END:VEVENT
BEGIN:VEVENT
DTSTART;TZID=America/New_York:20260909T190000
DTEND;TZID=America/New_York:20260909T203000
DTSTAMP:20260425T234849
CREATED:20250821T192757Z
LAST-MODIFIED:20250826T175856Z
UID:10091965-1788980400-1788985800@moderation.org
SUMMARY:MM Men’s Video Meeting - NEW Extended time!
DESCRIPTION:The MM Men’s Video Meeting is a Meeting for Men\, about Men’s issues. \nMeeting every Wednesday\, at 7PM Eastern\, 4PM Pacific\, 5PM Mountain\, 6PM Central Time for 90 minutes. \nTo join the meeting click here!
URL:https://moderation.org/events/mm-mens-video-meeting-2-2/2026-09-09/
CATEGORIES:Video Meeting
ATTACH;FMTTYPE=image/jpeg:https://moderation.org/wp-content/uploads/2021/08/surface-wK2lihxIwZ0-unsplash-scaled.jpg
ORGANIZER;CN="Moderation Management":MAILTO:meetings@moderation.org
END:VEVENT
BEGIN:VEVENT
DTSTART;TZID=America/New_York:20260914T180000
DTEND;TZID=America/New_York:20260914T190000
DTSTAMP:20260425T234849
CREATED:20251107T195555Z
LAST-MODIFIED:20251219T162723Z
UID:10094053-1789408800-1789412400@moderation.org
SUMMARY:NEW! Neighbors in Change MM Meeting
DESCRIPTION:Join us to learn tools and coping skills that can help you make healthier lifestyle changes as they relate to drinking. This online meeting will feature a rotating topic and group discussion. Our group is newcomer friendly! This is not an abstinence based meeting\, though abstainers are always welcome. \nEvery Monday 6pm – 7pm Eastern (5pm Central\, 4pm Mountain\, 3pm Pacific) \nTo join via Zoom\, please click here.\n 
URL:https://moderation.org/events/new-neighbors-in-change-hybrid-mm-meeting-in-nj-2/2026-09-14/
CATEGORIES:Video Meeting
ATTACH;FMTTYPE=image/jpeg:https://moderation.org/wp-content/uploads/2025/12/7broti_qaa4.jpg
ORGANIZER;CN="Moderation Management":MAILTO:meetings@moderation.org
END:VEVENT
BEGIN:VEVENT
DTSTART;TZID=America/New_York:20260916T190000
DTEND;TZID=America/New_York:20260916T203000
DTSTAMP:20260425T234849
CREATED:20250821T192757Z
LAST-MODIFIED:20250826T175856Z
UID:10091966-1789585200-1789590600@moderation.org
SUMMARY:MM Men’s Video Meeting - NEW Extended time!
DESCRIPTION:The MM Men’s Video Meeting is a Meeting for Men\, about Men’s issues. \nMeeting every Wednesday\, at 7PM Eastern\, 4PM Pacific\, 5PM Mountain\, 6PM Central Time for 90 minutes. \nTo join the meeting click here!
URL:https://moderation.org/events/mm-mens-video-meeting-2-2/2026-09-16/
CATEGORIES:Video Meeting
ATTACH;FMTTYPE=image/jpeg:https://moderation.org/wp-content/uploads/2021/08/surface-wK2lihxIwZ0-unsplash-scaled.jpg
ORGANIZER;CN="Moderation Management":MAILTO:meetings@moderation.org
END:VEVENT
BEGIN:VEVENT
DTSTART;TZID=America/New_York:20260921T180000
DTEND;TZID=America/New_York:20260921T190000
DTSTAMP:20260425T234849
CREATED:20251107T195555Z
LAST-MODIFIED:20251219T162723Z
UID:10094054-1790013600-1790017200@moderation.org
SUMMARY:NEW! Neighbors in Change MM Meeting
DESCRIPTION:Join us to learn tools and coping skills that can help you make healthier lifestyle changes as they relate to drinking. This online meeting will feature a rotating topic and group discussion. Our group is newcomer friendly! This is not an abstinence based meeting\, though abstainers are always welcome. \nEvery Monday 6pm – 7pm Eastern (5pm Central\, 4pm Mountain\, 3pm Pacific) \nTo join via Zoom\, please click here.\n 
URL:https://moderation.org/events/new-neighbors-in-change-hybrid-mm-meeting-in-nj-2/2026-09-21/
CATEGORIES:Video Meeting
ATTACH;FMTTYPE=image/jpeg:https://moderation.org/wp-content/uploads/2025/12/7broti_qaa4.jpg
ORGANIZER;CN="Moderation Management":MAILTO:meetings@moderation.org
END:VEVENT
BEGIN:VEVENT
DTSTART;TZID=America/New_York:20260923T190000
DTEND;TZID=America/New_York:20260923T203000
DTSTAMP:20260425T234849
CREATED:20250821T192757Z
LAST-MODIFIED:20250826T175856Z
UID:10091967-1790190000-1790195400@moderation.org
SUMMARY:MM Men’s Video Meeting - NEW Extended time!
DESCRIPTION:The MM Men’s Video Meeting is a Meeting for Men\, about Men’s issues. \nMeeting every Wednesday\, at 7PM Eastern\, 4PM Pacific\, 5PM Mountain\, 6PM Central Time for 90 minutes. \nTo join the meeting click here!
URL:https://moderation.org/events/mm-mens-video-meeting-2-2/2026-09-23/
CATEGORIES:Video Meeting
ATTACH;FMTTYPE=image/jpeg:https://moderation.org/wp-content/uploads/2021/08/surface-wK2lihxIwZ0-unsplash-scaled.jpg
ORGANIZER;CN="Moderation Management":MAILTO:meetings@moderation.org
END:VEVENT
BEGIN:VEVENT
DTSTART;TZID=America/New_York:20260928T180000
DTEND;TZID=America/New_York:20260928T190000
DTSTAMP:20260425T234849
CREATED:20251107T195555Z
LAST-MODIFIED:20251219T162723Z
UID:10094055-1790618400-1790622000@moderation.org
SUMMARY:NEW! Neighbors in Change MM Meeting
DESCRIPTION:Join us to learn tools and coping skills that can help you make healthier lifestyle changes as they relate to drinking. This online meeting will feature a rotating topic and group discussion. Our group is newcomer friendly! This is not an abstinence based meeting\, though abstainers are always welcome. \nEvery Monday 6pm – 7pm Eastern (5pm Central\, 4pm Mountain\, 3pm Pacific) \nTo join via Zoom\, please click here.\n 
URL:https://moderation.org/events/new-neighbors-in-change-hybrid-mm-meeting-in-nj-2/2026-09-28/
CATEGORIES:Video Meeting
ATTACH;FMTTYPE=image/jpeg:https://moderation.org/wp-content/uploads/2025/12/7broti_qaa4.jpg
ORGANIZER;CN="Moderation Management":MAILTO:meetings@moderation.org
END:VEVENT
BEGIN:VEVENT
DTSTART;TZID=America/New_York:20260930T190000
DTEND;TZID=America/New_York:20260930T203000
DTSTAMP:20260425T234849
CREATED:20250821T192757Z
LAST-MODIFIED:20250826T175856Z
UID:10091968-1790794800-1790800200@moderation.org
SUMMARY:MM Men’s Video Meeting - NEW Extended time!
DESCRIPTION:The MM Men’s Video Meeting is a Meeting for Men\, about Men’s issues. \nMeeting every Wednesday\, at 7PM Eastern\, 4PM Pacific\, 5PM Mountain\, 6PM Central Time for 90 minutes. \nTo join the meeting click here!
URL:https://moderation.org/events/mm-mens-video-meeting-2-2/2026-09-30/
CATEGORIES:Video Meeting
ATTACH;FMTTYPE=image/jpeg:https://moderation.org/wp-content/uploads/2021/08/surface-wK2lihxIwZ0-unsplash-scaled.jpg
ORGANIZER;CN="Moderation Management":MAILTO:meetings@moderation.org
END:VEVENT
BEGIN:VEVENT
DTSTART;TZID=America/New_York:20261005T180000
DTEND;TZID=America/New_York:20261005T190000
DTSTAMP:20260425T234849
CREATED:20251107T195555Z
LAST-MODIFIED:20251219T162723Z
UID:10094056-1791223200-1791226800@moderation.org
SUMMARY:NEW! Neighbors in Change MM Meeting
DESCRIPTION:Join us to learn tools and coping skills that can help you make healthier lifestyle changes as they relate to drinking. This online meeting will feature a rotating topic and group discussion. Our group is newcomer friendly! This is not an abstinence based meeting\, though abstainers are always welcome. \nEvery Monday 6pm – 7pm Eastern (5pm Central\, 4pm Mountain\, 3pm Pacific) \nTo join via Zoom\, please click here.\n 
URL:https://moderation.org/events/new-neighbors-in-change-hybrid-mm-meeting-in-nj-2/2026-10-05/
CATEGORIES:Video Meeting
ATTACH;FMTTYPE=image/jpeg:https://moderation.org/wp-content/uploads/2025/12/7broti_qaa4.jpg
ORGANIZER;CN="Moderation Management":MAILTO:meetings@moderation.org
END:VEVENT
BEGIN:VEVENT
DTSTART;TZID=America/New_York:20261007T190000
DTEND;TZID=America/New_York:20261007T203000
DTSTAMP:20260425T234849
CREATED:20250821T192757Z
LAST-MODIFIED:20250826T175856Z
UID:10091969-1791399600-1791405000@moderation.org
SUMMARY:MM Men’s Video Meeting - NEW Extended time!
DESCRIPTION:The MM Men’s Video Meeting is a Meeting for Men\, about Men’s issues. \nMeeting every Wednesday\, at 7PM Eastern\, 4PM Pacific\, 5PM Mountain\, 6PM Central Time for 90 minutes. \nTo join the meeting click here!
URL:https://moderation.org/events/mm-mens-video-meeting-2-2/2026-10-07/
CATEGORIES:Video Meeting
ATTACH;FMTTYPE=image/jpeg:https://moderation.org/wp-content/uploads/2021/08/surface-wK2lihxIwZ0-unsplash-scaled.jpg
ORGANIZER;CN="Moderation Management":MAILTO:meetings@moderation.org
END:VEVENT
BEGIN:VEVENT
DTSTART;TZID=America/New_York:20261012T180000
DTEND;TZID=America/New_York:20261012T190000
DTSTAMP:20260425T234849
CREATED:20251107T195555Z
LAST-MODIFIED:20251219T162723Z
UID:10094057-1791828000-1791831600@moderation.org
SUMMARY:NEW! Neighbors in Change MM Meeting
DESCRIPTION:Join us to learn tools and coping skills that can help you make healthier lifestyle changes as they relate to drinking. This online meeting will feature a rotating topic and group discussion. Our group is newcomer friendly! This is not an abstinence based meeting\, though abstainers are always welcome. \nEvery Monday 6pm – 7pm Eastern (5pm Central\, 4pm Mountain\, 3pm Pacific) \nTo join via Zoom\, please click here.\n 
URL:https://moderation.org/events/new-neighbors-in-change-hybrid-mm-meeting-in-nj-2/2026-10-12/
CATEGORIES:Video Meeting
ATTACH;FMTTYPE=image/jpeg:https://moderation.org/wp-content/uploads/2025/12/7broti_qaa4.jpg
ORGANIZER;CN="Moderation Management":MAILTO:meetings@moderation.org
END:VEVENT
BEGIN:VEVENT
DTSTART;TZID=America/New_York:20261014T190000
DTEND;TZID=America/New_York:20261014T203000
DTSTAMP:20260425T234849
CREATED:20250821T192757Z
LAST-MODIFIED:20250826T175856Z
UID:10091970-1792004400-1792009800@moderation.org
SUMMARY:MM Men’s Video Meeting - NEW Extended time!
DESCRIPTION:The MM Men’s Video Meeting is a Meeting for Men\, about Men’s issues. \nMeeting every Wednesday\, at 7PM Eastern\, 4PM Pacific\, 5PM Mountain\, 6PM Central Time for 90 minutes. \nTo join the meeting click here!
URL:https://moderation.org/events/mm-mens-video-meeting-2-2/2026-10-14/
CATEGORIES:Video Meeting
ATTACH;FMTTYPE=image/jpeg:https://moderation.org/wp-content/uploads/2021/08/surface-wK2lihxIwZ0-unsplash-scaled.jpg
ORGANIZER;CN="Moderation Management":MAILTO:meetings@moderation.org
END:VEVENT
BEGIN:VEVENT
DTSTART;TZID=America/New_York:20261019T180000
DTEND;TZID=America/New_York:20261019T190000
DTSTAMP:20260425T234849
CREATED:20251107T195555Z
LAST-MODIFIED:20251219T162723Z
UID:10094058-1792432800-1792436400@moderation.org
SUMMARY:NEW! Neighbors in Change MM Meeting
DESCRIPTION:Join us to learn tools and coping skills that can help you make healthier lifestyle changes as they relate to drinking. This online meeting will feature a rotating topic and group discussion. Our group is newcomer friendly! This is not an abstinence based meeting\, though abstainers are always welcome. \nEvery Monday 6pm – 7pm Eastern (5pm Central\, 4pm Mountain\, 3pm Pacific) \nTo join via Zoom\, please click here.\n 
URL:https://moderation.org/events/new-neighbors-in-change-hybrid-mm-meeting-in-nj-2/2026-10-19/
CATEGORIES:Video Meeting
ATTACH;FMTTYPE=image/jpeg:https://moderation.org/wp-content/uploads/2025/12/7broti_qaa4.jpg
ORGANIZER;CN="Moderation Management":MAILTO:meetings@moderation.org
END:VEVENT
BEGIN:VEVENT
DTSTART;TZID=America/New_York:20261021T190000
DTEND;TZID=America/New_York:20261021T203000
DTSTAMP:20260425T234849
CREATED:20250821T192757Z
LAST-MODIFIED:20250826T175856Z
UID:10091971-1792609200-1792614600@moderation.org
SUMMARY:MM Men’s Video Meeting - NEW Extended time!
DESCRIPTION:The MM Men’s Video Meeting is a Meeting for Men\, about Men’s issues. \nMeeting every Wednesday\, at 7PM Eastern\, 4PM Pacific\, 5PM Mountain\, 6PM Central Time for 90 minutes. \nTo join the meeting click here!
URL:https://moderation.org/events/mm-mens-video-meeting-2-2/2026-10-21/
CATEGORIES:Video Meeting
ATTACH;FMTTYPE=image/jpeg:https://moderation.org/wp-content/uploads/2021/08/surface-wK2lihxIwZ0-unsplash-scaled.jpg
ORGANIZER;CN="Moderation Management":MAILTO:meetings@moderation.org
END:VEVENT
BEGIN:VEVENT
DTSTART;TZID=America/New_York:20261026T180000
DTEND;TZID=America/New_York:20261026T190000
DTSTAMP:20260425T234849
CREATED:20251107T195555Z
LAST-MODIFIED:20251219T162723Z
UID:10094059-1793037600-1793041200@moderation.org
SUMMARY:NEW! Neighbors in Change MM Meeting
DESCRIPTION:Join us to learn tools and coping skills that can help you make healthier lifestyle changes as they relate to drinking. This online meeting will feature a rotating topic and group discussion. Our group is newcomer friendly! This is not an abstinence based meeting\, though abstainers are always welcome. \nEvery Monday 6pm – 7pm Eastern (5pm Central\, 4pm Mountain\, 3pm Pacific) \nTo join via Zoom\, please click here.\n 
URL:https://moderation.org/events/new-neighbors-in-change-hybrid-mm-meeting-in-nj-2/2026-10-26/
CATEGORIES:Video Meeting
ATTACH;FMTTYPE=image/jpeg:https://moderation.org/wp-content/uploads/2025/12/7broti_qaa4.jpg
ORGANIZER;CN="Moderation Management":MAILTO:meetings@moderation.org
END:VEVENT
BEGIN:VEVENT
DTSTART;TZID=America/New_York:20261028T190000
DTEND;TZID=America/New_York:20261028T203000
DTSTAMP:20260425T234849
CREATED:20250821T192757Z
LAST-MODIFIED:20250826T175856Z
UID:10091972-1793214000-1793219400@moderation.org
SUMMARY:MM Men’s Video Meeting - NEW Extended time!
DESCRIPTION:The MM Men’s Video Meeting is a Meeting for Men\, about Men’s issues. \nMeeting every Wednesday\, at 7PM Eastern\, 4PM Pacific\, 5PM Mountain\, 6PM Central Time for 90 minutes. \nTo join the meeting click here!
URL:https://moderation.org/events/mm-mens-video-meeting-2-2/2026-10-28/
CATEGORIES:Video Meeting
ATTACH;FMTTYPE=image/jpeg:https://moderation.org/wp-content/uploads/2021/08/surface-wK2lihxIwZ0-unsplash-scaled.jpg
ORGANIZER;CN="Moderation Management":MAILTO:meetings@moderation.org
END:VEVENT
BEGIN:VEVENT
DTSTART;TZID=America/New_York:20261102T180000
DTEND;TZID=America/New_York:20261102T190000
DTSTAMP:20260425T234849
CREATED:20251107T195555Z
LAST-MODIFIED:20251219T162723Z
UID:10094060-1793642400-1793646000@moderation.org
SUMMARY:NEW! Neighbors in Change MM Meeting
DESCRIPTION:Join us to learn tools and coping skills that can help you make healthier lifestyle changes as they relate to drinking. This online meeting will feature a rotating topic and group discussion. Our group is newcomer friendly! This is not an abstinence based meeting\, though abstainers are always welcome. \nEvery Monday 6pm – 7pm Eastern (5pm Central\, 4pm Mountain\, 3pm Pacific) \nTo join via Zoom\, please click here.\n 
URL:https://moderation.org/events/new-neighbors-in-change-hybrid-mm-meeting-in-nj-2/2026-11-02/
CATEGORIES:Video Meeting
ATTACH;FMTTYPE=image/jpeg:https://moderation.org/wp-content/uploads/2025/12/7broti_qaa4.jpg
ORGANIZER;CN="Moderation Management":MAILTO:meetings@moderation.org
END:VEVENT
BEGIN:VEVENT
DTSTART;TZID=America/New_York:20261104T190000
DTEND;TZID=America/New_York:20261104T203000
DTSTAMP:20260425T234849
CREATED:20250821T192757Z
LAST-MODIFIED:20250826T175856Z
UID:10091973-1793818800-1793824200@moderation.org
SUMMARY:MM Men’s Video Meeting - NEW Extended time!
DESCRIPTION:The MM Men’s Video Meeting is a Meeting for Men\, about Men’s issues. \nMeeting every Wednesday\, at 7PM Eastern\, 4PM Pacific\, 5PM Mountain\, 6PM Central Time for 90 minutes. \nTo join the meeting click here!
URL:https://moderation.org/events/mm-mens-video-meeting-2-2/2026-11-04/
CATEGORIES:Video Meeting
ATTACH;FMTTYPE=image/jpeg:https://moderation.org/wp-content/uploads/2021/08/surface-wK2lihxIwZ0-unsplash-scaled.jpg
ORGANIZER;CN="Moderation Management":MAILTO:meetings@moderation.org
END:VEVENT
BEGIN:VEVENT
DTSTART;TZID=America/New_York:20261109T180000
DTEND;TZID=America/New_York:20261109T190000
DTSTAMP:20260425T234849
CREATED:20251107T195555Z
LAST-MODIFIED:20251219T162723Z
UID:10094061-1794247200-1794250800@moderation.org
SUMMARY:NEW! Neighbors in Change MM Meeting
DESCRIPTION:Join us to learn tools and coping skills that can help you make healthier lifestyle changes as they relate to drinking. This online meeting will feature a rotating topic and group discussion. Our group is newcomer friendly! This is not an abstinence based meeting\, though abstainers are always welcome. \nEvery Monday 6pm – 7pm Eastern (5pm Central\, 4pm Mountain\, 3pm Pacific) \nTo join via Zoom\, please click here.\n 
URL:https://moderation.org/events/new-neighbors-in-change-hybrid-mm-meeting-in-nj-2/2026-11-09/
CATEGORIES:Video Meeting
ATTACH;FMTTYPE=image/jpeg:https://moderation.org/wp-content/uploads/2025/12/7broti_qaa4.jpg
ORGANIZER;CN="Moderation Management":MAILTO:meetings@moderation.org
END:VEVENT
BEGIN:VEVENT
DTSTART;TZID=America/New_York:20261111T190000
DTEND;TZID=America/New_York:20261111T203000
DTSTAMP:20260425T234849
CREATED:20250821T192757Z
LAST-MODIFIED:20250826T175856Z
UID:10091974-1794423600-1794429000@moderation.org
SUMMARY:MM Men’s Video Meeting - NEW Extended time!
DESCRIPTION:The MM Men’s Video Meeting is a Meeting for Men\, about Men’s issues. \nMeeting every Wednesday\, at 7PM Eastern\, 4PM Pacific\, 5PM Mountain\, 6PM Central Time for 90 minutes. \nTo join the meeting click here!
URL:https://moderation.org/events/mm-mens-video-meeting-2-2/2026-11-11/
CATEGORIES:Video Meeting
ATTACH;FMTTYPE=image/jpeg:https://moderation.org/wp-content/uploads/2021/08/surface-wK2lihxIwZ0-unsplash-scaled.jpg
ORGANIZER;CN="Moderation Management":MAILTO:meetings@moderation.org
END:VEVENT
BEGIN:VEVENT
DTSTART;TZID=America/New_York:20261116T180000
DTEND;TZID=America/New_York:20261116T190000
DTSTAMP:20260425T234849
CREATED:20251107T195555Z
LAST-MODIFIED:20251219T162723Z
UID:10094062-1794852000-1794855600@moderation.org
SUMMARY:NEW! Neighbors in Change MM Meeting
DESCRIPTION:Join us to learn tools and coping skills that can help you make healthier lifestyle changes as they relate to drinking. This online meeting will feature a rotating topic and group discussion. Our group is newcomer friendly! This is not an abstinence based meeting\, though abstainers are always welcome. \nEvery Monday 6pm – 7pm Eastern (5pm Central\, 4pm Mountain\, 3pm Pacific) \nTo join via Zoom\, please click here.\n 
URL:https://moderation.org/events/new-neighbors-in-change-hybrid-mm-meeting-in-nj-2/2026-11-16/
CATEGORIES:Video Meeting
ATTACH;FMTTYPE=image/jpeg:https://moderation.org/wp-content/uploads/2025/12/7broti_qaa4.jpg
ORGANIZER;CN="Moderation Management":MAILTO:meetings@moderation.org
END:VEVENT
BEGIN:VEVENT
DTSTART;TZID=America/New_York:20261118T190000
DTEND;TZID=America/New_York:20261118T203000
DTSTAMP:20260425T234849
CREATED:20250821T192757Z
LAST-MODIFIED:20250826T175856Z
UID:10091975-1795028400-1795033800@moderation.org
SUMMARY:MM Men’s Video Meeting - NEW Extended time!
DESCRIPTION:The MM Men’s Video Meeting is a Meeting for Men\, about Men’s issues. \nMeeting every Wednesday\, at 7PM Eastern\, 4PM Pacific\, 5PM Mountain\, 6PM Central Time for 90 minutes. \nTo join the meeting click here!
URL:https://moderation.org/events/mm-mens-video-meeting-2-2/2026-11-18/
CATEGORIES:Video Meeting
ATTACH;FMTTYPE=image/jpeg:https://moderation.org/wp-content/uploads/2021/08/surface-wK2lihxIwZ0-unsplash-scaled.jpg
ORGANIZER;CN="Moderation Management":MAILTO:meetings@moderation.org
END:VEVENT
BEGIN:VEVENT
DTSTART;TZID=America/New_York:20261123T180000
DTEND;TZID=America/New_York:20261123T190000
DTSTAMP:20260425T234849
CREATED:20251107T195555Z
LAST-MODIFIED:20251219T162723Z
UID:10094063-1795456800-1795460400@moderation.org
SUMMARY:NEW! Neighbors in Change MM Meeting
DESCRIPTION:Join us to learn tools and coping skills that can help you make healthier lifestyle changes as they relate to drinking. This online meeting will feature a rotating topic and group discussion. Our group is newcomer friendly! This is not an abstinence based meeting\, though abstainers are always welcome. \nEvery Monday 6pm – 7pm Eastern (5pm Central\, 4pm Mountain\, 3pm Pacific) \nTo join via Zoom\, please click here.\n 
URL:https://moderation.org/events/new-neighbors-in-change-hybrid-mm-meeting-in-nj-2/2026-11-23/
CATEGORIES:Video Meeting
ATTACH;FMTTYPE=image/jpeg:https://moderation.org/wp-content/uploads/2025/12/7broti_qaa4.jpg
ORGANIZER;CN="Moderation Management":MAILTO:meetings@moderation.org
END:VEVENT
END:VCALENDAR