BEGIN:VCALENDAR
VERSION:2.0
PRODID:-//Moderation Management™ - ECPv6.15.20//NONSGML v1.0//EN
CALSCALE:GREGORIAN
METHOD:PUBLISH
X-WR-CALNAME:Moderation Management™
X-ORIGINAL-URL:https://moderation.org
X-WR-CALDESC:Events for Moderation Management™
REFRESH-INTERVAL;VALUE=DURATION:PT1H
X-Robots-Tag:noindex
X-PUBLISHED-TTL:PT1H
BEGIN:VTIMEZONE
TZID:America/New_York
BEGIN:DAYLIGHT
TZOFFSETFROM:-0500
TZOFFSETTO:-0400
TZNAME:EDT
DTSTART:20250309T070000
END:DAYLIGHT
BEGIN:STANDARD
TZOFFSETFROM:-0400
TZOFFSETTO:-0500
TZNAME:EST
DTSTART:20251102T060000
END:STANDARD
BEGIN:DAYLIGHT
TZOFFSETFROM:-0500
TZOFFSETTO:-0400
TZNAME:EDT
DTSTART:20260308T070000
END:DAYLIGHT
BEGIN:STANDARD
TZOFFSETFROM:-0400
TZOFFSETTO:-0500
TZNAME:EST
DTSTART:20261101T060000
END:STANDARD
BEGIN:DAYLIGHT
TZOFFSETFROM:-0500
TZOFFSETTO:-0400
TZNAME:EDT
DTSTART:20270314T070000
END:DAYLIGHT
BEGIN:STANDARD
TZOFFSETFROM:-0400
TZOFFSETTO:-0500
TZNAME:EST
DTSTART:20271107T060000
END:STANDARD
END:VTIMEZONE
BEGIN:VEVENT
DTSTART;TZID=America/New_York:20260425T170000
DTEND;TZID=America/New_York:20260425T180000
DTSTAMP:20260425T171231
CREATED:20230118T231253Z
LAST-MODIFIED:20250506T174420Z
UID:10014900-1777136400-1777140000@moderation.org
SUMMARY:Strategy Saturday MM Video Meeting
DESCRIPTION:Come strategize with us at this MM video meeting\, where we’ll share our moderation goals\, successes\, learning opportunities and questions. Open to anyone concerned about their drinking. \nHappens every Saturday at 5PM Eastern\, 2PM Pacific\, 3PM Mountain\, 4PM Central Time \nTo join the meeting\, please click here!
URL:https://moderation.org/events/strategy-saturday-mm-video-meeting-2/2026-04-25/
ATTACH;FMTTYPE=image/jpeg:https://moderation.org/wp-content/uploads/2021/10/bullseye.jpeg
ORGANIZER;CN="Moderation Management":MAILTO:meetings@moderation.org
END:VEVENT
BEGIN:VEVENT
DTSTART;TZID=America/New_York:20260502T170000
DTEND;TZID=America/New_York:20260502T180000
DTSTAMP:20260425T171231
CREATED:20230118T231253Z
LAST-MODIFIED:20250506T174420Z
UID:10014901-1777741200-1777744800@moderation.org
SUMMARY:Strategy Saturday MM Video Meeting
DESCRIPTION:Come strategize with us at this MM video meeting\, where we’ll share our moderation goals\, successes\, learning opportunities and questions. Open to anyone concerned about their drinking. \nHappens every Saturday at 5PM Eastern\, 2PM Pacific\, 3PM Mountain\, 4PM Central Time \nTo join the meeting\, please click here!
URL:https://moderation.org/events/strategy-saturday-mm-video-meeting-2/2026-05-02/
ATTACH;FMTTYPE=image/jpeg:https://moderation.org/wp-content/uploads/2021/10/bullseye.jpeg
ORGANIZER;CN="Moderation Management":MAILTO:meetings@moderation.org
END:VEVENT
BEGIN:VEVENT
DTSTART;TZID=America/New_York:20260509T170000
DTEND;TZID=America/New_York:20260509T180000
DTSTAMP:20260425T171231
CREATED:20230118T231253Z
LAST-MODIFIED:20250506T174420Z
UID:10014902-1778346000-1778349600@moderation.org
SUMMARY:Strategy Saturday MM Video Meeting
DESCRIPTION:Come strategize with us at this MM video meeting\, where we’ll share our moderation goals\, successes\, learning opportunities and questions. Open to anyone concerned about their drinking. \nHappens every Saturday at 5PM Eastern\, 2PM Pacific\, 3PM Mountain\, 4PM Central Time \nTo join the meeting\, please click here!
URL:https://moderation.org/events/strategy-saturday-mm-video-meeting-2/2026-05-09/
ATTACH;FMTTYPE=image/jpeg:https://moderation.org/wp-content/uploads/2021/10/bullseye.jpeg
ORGANIZER;CN="Moderation Management":MAILTO:meetings@moderation.org
END:VEVENT
BEGIN:VEVENT
DTSTART;TZID=America/New_York:20260516T170000
DTEND;TZID=America/New_York:20260516T180000
DTSTAMP:20260425T171231
CREATED:20230118T231253Z
LAST-MODIFIED:20250506T174420Z
UID:10014903-1778950800-1778954400@moderation.org
SUMMARY:Strategy Saturday MM Video Meeting
DESCRIPTION:Come strategize with us at this MM video meeting\, where we’ll share our moderation goals\, successes\, learning opportunities and questions. Open to anyone concerned about their drinking. \nHappens every Saturday at 5PM Eastern\, 2PM Pacific\, 3PM Mountain\, 4PM Central Time \nTo join the meeting\, please click here!
URL:https://moderation.org/events/strategy-saturday-mm-video-meeting-2/2026-05-16/
ATTACH;FMTTYPE=image/jpeg:https://moderation.org/wp-content/uploads/2021/10/bullseye.jpeg
ORGANIZER;CN="Moderation Management":MAILTO:meetings@moderation.org
END:VEVENT
BEGIN:VEVENT
DTSTART;TZID=America/New_York:20260523T170000
DTEND;TZID=America/New_York:20260523T180000
DTSTAMP:20260425T171231
CREATED:20230118T231253Z
LAST-MODIFIED:20250506T174420Z
UID:10014904-1779555600-1779559200@moderation.org
SUMMARY:Strategy Saturday MM Video Meeting
DESCRIPTION:Come strategize with us at this MM video meeting\, where we’ll share our moderation goals\, successes\, learning opportunities and questions. Open to anyone concerned about their drinking. \nHappens every Saturday at 5PM Eastern\, 2PM Pacific\, 3PM Mountain\, 4PM Central Time \nTo join the meeting\, please click here!
URL:https://moderation.org/events/strategy-saturday-mm-video-meeting-2/2026-05-23/
ATTACH;FMTTYPE=image/jpeg:https://moderation.org/wp-content/uploads/2021/10/bullseye.jpeg
ORGANIZER;CN="Moderation Management":MAILTO:meetings@moderation.org
END:VEVENT
BEGIN:VEVENT
DTSTART;TZID=America/New_York:20260530T170000
DTEND;TZID=America/New_York:20260530T180000
DTSTAMP:20260425T171231
CREATED:20230118T231253Z
LAST-MODIFIED:20250506T174420Z
UID:10014905-1780160400-1780164000@moderation.org
SUMMARY:Strategy Saturday MM Video Meeting
DESCRIPTION:Come strategize with us at this MM video meeting\, where we’ll share our moderation goals\, successes\, learning opportunities and questions. Open to anyone concerned about their drinking. \nHappens every Saturday at 5PM Eastern\, 2PM Pacific\, 3PM Mountain\, 4PM Central Time \nTo join the meeting\, please click here!
URL:https://moderation.org/events/strategy-saturday-mm-video-meeting-2/2026-05-30/
ATTACH;FMTTYPE=image/jpeg:https://moderation.org/wp-content/uploads/2021/10/bullseye.jpeg
ORGANIZER;CN="Moderation Management":MAILTO:meetings@moderation.org
END:VEVENT
BEGIN:VEVENT
DTSTART;TZID=America/New_York:20260606T170000
DTEND;TZID=America/New_York:20260606T180000
DTSTAMP:20260425T171231
CREATED:20230118T231253Z
LAST-MODIFIED:20250506T174420Z
UID:10014906-1780765200-1780768800@moderation.org
SUMMARY:Strategy Saturday MM Video Meeting
DESCRIPTION:Come strategize with us at this MM video meeting\, where we’ll share our moderation goals\, successes\, learning opportunities and questions. Open to anyone concerned about their drinking. \nHappens every Saturday at 5PM Eastern\, 2PM Pacific\, 3PM Mountain\, 4PM Central Time \nTo join the meeting\, please click here!
URL:https://moderation.org/events/strategy-saturday-mm-video-meeting-2/2026-06-06/
ATTACH;FMTTYPE=image/jpeg:https://moderation.org/wp-content/uploads/2021/10/bullseye.jpeg
ORGANIZER;CN="Moderation Management":MAILTO:meetings@moderation.org
END:VEVENT
BEGIN:VEVENT
DTSTART;TZID=America/New_York:20260613T170000
DTEND;TZID=America/New_York:20260613T180000
DTSTAMP:20260425T171231
CREATED:20230118T231253Z
LAST-MODIFIED:20250506T174420Z
UID:10014907-1781370000-1781373600@moderation.org
SUMMARY:Strategy Saturday MM Video Meeting
DESCRIPTION:Come strategize with us at this MM video meeting\, where we’ll share our moderation goals\, successes\, learning opportunities and questions. Open to anyone concerned about their drinking. \nHappens every Saturday at 5PM Eastern\, 2PM Pacific\, 3PM Mountain\, 4PM Central Time \nTo join the meeting\, please click here!
URL:https://moderation.org/events/strategy-saturday-mm-video-meeting-2/2026-06-13/
ATTACH;FMTTYPE=image/jpeg:https://moderation.org/wp-content/uploads/2021/10/bullseye.jpeg
ORGANIZER;CN="Moderation Management":MAILTO:meetings@moderation.org
END:VEVENT
BEGIN:VEVENT
DTSTART;TZID=America/New_York:20260620T170000
DTEND;TZID=America/New_York:20260620T180000
DTSTAMP:20260425T171231
CREATED:20230118T231253Z
LAST-MODIFIED:20250506T174420Z
UID:10014908-1781974800-1781978400@moderation.org
SUMMARY:Strategy Saturday MM Video Meeting
DESCRIPTION:Come strategize with us at this MM video meeting\, where we’ll share our moderation goals\, successes\, learning opportunities and questions. Open to anyone concerned about their drinking. \nHappens every Saturday at 5PM Eastern\, 2PM Pacific\, 3PM Mountain\, 4PM Central Time \nTo join the meeting\, please click here!
URL:https://moderation.org/events/strategy-saturday-mm-video-meeting-2/2026-06-20/
ATTACH;FMTTYPE=image/jpeg:https://moderation.org/wp-content/uploads/2021/10/bullseye.jpeg
ORGANIZER;CN="Moderation Management":MAILTO:meetings@moderation.org
END:VEVENT
BEGIN:VEVENT
DTSTART;TZID=America/New_York:20260627T170000
DTEND;TZID=America/New_York:20260627T180000
DTSTAMP:20260425T171231
CREATED:20230118T231253Z
LAST-MODIFIED:20250506T174420Z
UID:10014909-1782579600-1782583200@moderation.org
SUMMARY:Strategy Saturday MM Video Meeting
DESCRIPTION:Come strategize with us at this MM video meeting\, where we’ll share our moderation goals\, successes\, learning opportunities and questions. Open to anyone concerned about their drinking. \nHappens every Saturday at 5PM Eastern\, 2PM Pacific\, 3PM Mountain\, 4PM Central Time \nTo join the meeting\, please click here!
URL:https://moderation.org/events/strategy-saturday-mm-video-meeting-2/2026-06-27/
ATTACH;FMTTYPE=image/jpeg:https://moderation.org/wp-content/uploads/2021/10/bullseye.jpeg
ORGANIZER;CN="Moderation Management":MAILTO:meetings@moderation.org
END:VEVENT
BEGIN:VEVENT
DTSTART;TZID=America/New_York:20260704T170000
DTEND;TZID=America/New_York:20260704T180000
DTSTAMP:20260425T171231
CREATED:20230118T231253Z
LAST-MODIFIED:20250506T174420Z
UID:10014910-1783184400-1783188000@moderation.org
SUMMARY:Strategy Saturday MM Video Meeting
DESCRIPTION:Come strategize with us at this MM video meeting\, where we’ll share our moderation goals\, successes\, learning opportunities and questions. Open to anyone concerned about their drinking. \nHappens every Saturday at 5PM Eastern\, 2PM Pacific\, 3PM Mountain\, 4PM Central Time \nTo join the meeting\, please click here!
URL:https://moderation.org/events/strategy-saturday-mm-video-meeting-2/2026-07-04/
ATTACH;FMTTYPE=image/jpeg:https://moderation.org/wp-content/uploads/2021/10/bullseye.jpeg
ORGANIZER;CN="Moderation Management":MAILTO:meetings@moderation.org
END:VEVENT
BEGIN:VEVENT
DTSTART;TZID=America/New_York:20260711T170000
DTEND;TZID=America/New_York:20260711T180000
DTSTAMP:20260425T171231
CREATED:20230118T231253Z
LAST-MODIFIED:20250506T174420Z
UID:10014911-1783789200-1783792800@moderation.org
SUMMARY:Strategy Saturday MM Video Meeting
DESCRIPTION:Come strategize with us at this MM video meeting\, where we’ll share our moderation goals\, successes\, learning opportunities and questions. Open to anyone concerned about their drinking. \nHappens every Saturday at 5PM Eastern\, 2PM Pacific\, 3PM Mountain\, 4PM Central Time \nTo join the meeting\, please click here!
URL:https://moderation.org/events/strategy-saturday-mm-video-meeting-2/2026-07-11/
ATTACH;FMTTYPE=image/jpeg:https://moderation.org/wp-content/uploads/2021/10/bullseye.jpeg
ORGANIZER;CN="Moderation Management":MAILTO:meetings@moderation.org
END:VEVENT
BEGIN:VEVENT
DTSTART;TZID=America/New_York:20260718T170000
DTEND;TZID=America/New_York:20260718T180000
DTSTAMP:20260425T171231
CREATED:20230118T231253Z
LAST-MODIFIED:20250506T174420Z
UID:10014912-1784394000-1784397600@moderation.org
SUMMARY:Strategy Saturday MM Video Meeting
DESCRIPTION:Come strategize with us at this MM video meeting\, where we’ll share our moderation goals\, successes\, learning opportunities and questions. Open to anyone concerned about their drinking. \nHappens every Saturday at 5PM Eastern\, 2PM Pacific\, 3PM Mountain\, 4PM Central Time \nTo join the meeting\, please click here!
URL:https://moderation.org/events/strategy-saturday-mm-video-meeting-2/2026-07-18/
ATTACH;FMTTYPE=image/jpeg:https://moderation.org/wp-content/uploads/2021/10/bullseye.jpeg
ORGANIZER;CN="Moderation Management":MAILTO:meetings@moderation.org
END:VEVENT
BEGIN:VEVENT
DTSTART;TZID=America/New_York:20260725T170000
DTEND;TZID=America/New_York:20260725T180000
DTSTAMP:20260425T171231
CREATED:20230118T231253Z
LAST-MODIFIED:20250506T174420Z
UID:10014913-1784998800-1785002400@moderation.org
SUMMARY:Strategy Saturday MM Video Meeting
DESCRIPTION:Come strategize with us at this MM video meeting\, where we’ll share our moderation goals\, successes\, learning opportunities and questions. Open to anyone concerned about their drinking. \nHappens every Saturday at 5PM Eastern\, 2PM Pacific\, 3PM Mountain\, 4PM Central Time \nTo join the meeting\, please click here!
URL:https://moderation.org/events/strategy-saturday-mm-video-meeting-2/2026-07-25/
ATTACH;FMTTYPE=image/jpeg:https://moderation.org/wp-content/uploads/2021/10/bullseye.jpeg
ORGANIZER;CN="Moderation Management":MAILTO:meetings@moderation.org
END:VEVENT
BEGIN:VEVENT
DTSTART;TZID=America/New_York:20260801T170000
DTEND;TZID=America/New_York:20260801T180000
DTSTAMP:20260425T171231
CREATED:20230118T231253Z
LAST-MODIFIED:20250506T174420Z
UID:10014914-1785603600-1785607200@moderation.org
SUMMARY:Strategy Saturday MM Video Meeting
DESCRIPTION:Come strategize with us at this MM video meeting\, where we’ll share our moderation goals\, successes\, learning opportunities and questions. Open to anyone concerned about their drinking. \nHappens every Saturday at 5PM Eastern\, 2PM Pacific\, 3PM Mountain\, 4PM Central Time \nTo join the meeting\, please click here!
URL:https://moderation.org/events/strategy-saturday-mm-video-meeting-2/2026-08-01/
ATTACH;FMTTYPE=image/jpeg:https://moderation.org/wp-content/uploads/2021/10/bullseye.jpeg
ORGANIZER;CN="Moderation Management":MAILTO:meetings@moderation.org
END:VEVENT
BEGIN:VEVENT
DTSTART;TZID=America/New_York:20260808T170000
DTEND;TZID=America/New_York:20260808T180000
DTSTAMP:20260425T171231
CREATED:20230118T231253Z
LAST-MODIFIED:20250506T174420Z
UID:10014915-1786208400-1786212000@moderation.org
SUMMARY:Strategy Saturday MM Video Meeting
DESCRIPTION:Come strategize with us at this MM video meeting\, where we’ll share our moderation goals\, successes\, learning opportunities and questions. Open to anyone concerned about their drinking. \nHappens every Saturday at 5PM Eastern\, 2PM Pacific\, 3PM Mountain\, 4PM Central Time \nTo join the meeting\, please click here!
URL:https://moderation.org/events/strategy-saturday-mm-video-meeting-2/2026-08-08/
ATTACH;FMTTYPE=image/jpeg:https://moderation.org/wp-content/uploads/2021/10/bullseye.jpeg
ORGANIZER;CN="Moderation Management":MAILTO:meetings@moderation.org
END:VEVENT
BEGIN:VEVENT
DTSTART;TZID=America/New_York:20260815T170000
DTEND;TZID=America/New_York:20260815T180000
DTSTAMP:20260425T171231
CREATED:20230118T231253Z
LAST-MODIFIED:20250506T174420Z
UID:10014916-1786813200-1786816800@moderation.org
SUMMARY:Strategy Saturday MM Video Meeting
DESCRIPTION:Come strategize with us at this MM video meeting\, where we’ll share our moderation goals\, successes\, learning opportunities and questions. Open to anyone concerned about their drinking. \nHappens every Saturday at 5PM Eastern\, 2PM Pacific\, 3PM Mountain\, 4PM Central Time \nTo join the meeting\, please click here!
URL:https://moderation.org/events/strategy-saturday-mm-video-meeting-2/2026-08-15/
ATTACH;FMTTYPE=image/jpeg:https://moderation.org/wp-content/uploads/2021/10/bullseye.jpeg
ORGANIZER;CN="Moderation Management":MAILTO:meetings@moderation.org
END:VEVENT
BEGIN:VEVENT
DTSTART;TZID=America/New_York:20260822T170000
DTEND;TZID=America/New_York:20260822T180000
DTSTAMP:20260425T171231
CREATED:20230118T231253Z
LAST-MODIFIED:20250506T174420Z
UID:10014917-1787418000-1787421600@moderation.org
SUMMARY:Strategy Saturday MM Video Meeting
DESCRIPTION:Come strategize with us at this MM video meeting\, where we’ll share our moderation goals\, successes\, learning opportunities and questions. Open to anyone concerned about their drinking. \nHappens every Saturday at 5PM Eastern\, 2PM Pacific\, 3PM Mountain\, 4PM Central Time \nTo join the meeting\, please click here!
URL:https://moderation.org/events/strategy-saturday-mm-video-meeting-2/2026-08-22/
ATTACH;FMTTYPE=image/jpeg:https://moderation.org/wp-content/uploads/2021/10/bullseye.jpeg
ORGANIZER;CN="Moderation Management":MAILTO:meetings@moderation.org
END:VEVENT
BEGIN:VEVENT
DTSTART;TZID=America/New_York:20260829T170000
DTEND;TZID=America/New_York:20260829T180000
DTSTAMP:20260425T171231
CREATED:20230118T231253Z
LAST-MODIFIED:20250506T174420Z
UID:10014918-1788022800-1788026400@moderation.org
SUMMARY:Strategy Saturday MM Video Meeting
DESCRIPTION:Come strategize with us at this MM video meeting\, where we’ll share our moderation goals\, successes\, learning opportunities and questions. Open to anyone concerned about their drinking. \nHappens every Saturday at 5PM Eastern\, 2PM Pacific\, 3PM Mountain\, 4PM Central Time \nTo join the meeting\, please click here!
URL:https://moderation.org/events/strategy-saturday-mm-video-meeting-2/2026-08-29/
ATTACH;FMTTYPE=image/jpeg:https://moderation.org/wp-content/uploads/2021/10/bullseye.jpeg
ORGANIZER;CN="Moderation Management":MAILTO:meetings@moderation.org
END:VEVENT
BEGIN:VEVENT
DTSTART;TZID=America/New_York:20260905T170000
DTEND;TZID=America/New_York:20260905T180000
DTSTAMP:20260425T171231
CREATED:20230118T231253Z
LAST-MODIFIED:20250506T174420Z
UID:10014919-1788627600-1788631200@moderation.org
SUMMARY:Strategy Saturday MM Video Meeting
DESCRIPTION:Come strategize with us at this MM video meeting\, where we’ll share our moderation goals\, successes\, learning opportunities and questions. Open to anyone concerned about their drinking. \nHappens every Saturday at 5PM Eastern\, 2PM Pacific\, 3PM Mountain\, 4PM Central Time \nTo join the meeting\, please click here!
URL:https://moderation.org/events/strategy-saturday-mm-video-meeting-2/2026-09-05/
ATTACH;FMTTYPE=image/jpeg:https://moderation.org/wp-content/uploads/2021/10/bullseye.jpeg
ORGANIZER;CN="Moderation Management":MAILTO:meetings@moderation.org
END:VEVENT
BEGIN:VEVENT
DTSTART;TZID=America/New_York:20260912T170000
DTEND;TZID=America/New_York:20260912T180000
DTSTAMP:20260425T171231
CREATED:20230118T231253Z
LAST-MODIFIED:20250506T174420Z
UID:10014920-1789232400-1789236000@moderation.org
SUMMARY:Strategy Saturday MM Video Meeting
DESCRIPTION:Come strategize with us at this MM video meeting\, where we’ll share our moderation goals\, successes\, learning opportunities and questions. Open to anyone concerned about their drinking. \nHappens every Saturday at 5PM Eastern\, 2PM Pacific\, 3PM Mountain\, 4PM Central Time \nTo join the meeting\, please click here!
URL:https://moderation.org/events/strategy-saturday-mm-video-meeting-2/2026-09-12/
ATTACH;FMTTYPE=image/jpeg:https://moderation.org/wp-content/uploads/2021/10/bullseye.jpeg
ORGANIZER;CN="Moderation Management":MAILTO:meetings@moderation.org
END:VEVENT
BEGIN:VEVENT
DTSTART;TZID=America/New_York:20260919T170000
DTEND;TZID=America/New_York:20260919T180000
DTSTAMP:20260425T171231
CREATED:20230118T231253Z
LAST-MODIFIED:20250506T174420Z
UID:10014921-1789837200-1789840800@moderation.org
SUMMARY:Strategy Saturday MM Video Meeting
DESCRIPTION:Come strategize with us at this MM video meeting\, where we’ll share our moderation goals\, successes\, learning opportunities and questions. Open to anyone concerned about their drinking. \nHappens every Saturday at 5PM Eastern\, 2PM Pacific\, 3PM Mountain\, 4PM Central Time \nTo join the meeting\, please click here!
URL:https://moderation.org/events/strategy-saturday-mm-video-meeting-2/2026-09-19/
ATTACH;FMTTYPE=image/jpeg:https://moderation.org/wp-content/uploads/2021/10/bullseye.jpeg
ORGANIZER;CN="Moderation Management":MAILTO:meetings@moderation.org
END:VEVENT
BEGIN:VEVENT
DTSTART;TZID=America/New_York:20260926T170000
DTEND;TZID=America/New_York:20260926T180000
DTSTAMP:20260425T171231
CREATED:20230118T231253Z
LAST-MODIFIED:20250506T174420Z
UID:10014922-1790442000-1790445600@moderation.org
SUMMARY:Strategy Saturday MM Video Meeting
DESCRIPTION:Come strategize with us at this MM video meeting\, where we’ll share our moderation goals\, successes\, learning opportunities and questions. Open to anyone concerned about their drinking. \nHappens every Saturday at 5PM Eastern\, 2PM Pacific\, 3PM Mountain\, 4PM Central Time \nTo join the meeting\, please click here!
URL:https://moderation.org/events/strategy-saturday-mm-video-meeting-2/2026-09-26/
ATTACH;FMTTYPE=image/jpeg:https://moderation.org/wp-content/uploads/2021/10/bullseye.jpeg
ORGANIZER;CN="Moderation Management":MAILTO:meetings@moderation.org
END:VEVENT
BEGIN:VEVENT
DTSTART;TZID=America/New_York:20261003T170000
DTEND;TZID=America/New_York:20261003T180000
DTSTAMP:20260425T171231
CREATED:20230118T231253Z
LAST-MODIFIED:20250506T174420Z
UID:10014923-1791046800-1791050400@moderation.org
SUMMARY:Strategy Saturday MM Video Meeting
DESCRIPTION:Come strategize with us at this MM video meeting\, where we’ll share our moderation goals\, successes\, learning opportunities and questions. Open to anyone concerned about their drinking. \nHappens every Saturday at 5PM Eastern\, 2PM Pacific\, 3PM Mountain\, 4PM Central Time \nTo join the meeting\, please click here!
URL:https://moderation.org/events/strategy-saturday-mm-video-meeting-2/2026-10-03/
ATTACH;FMTTYPE=image/jpeg:https://moderation.org/wp-content/uploads/2021/10/bullseye.jpeg
ORGANIZER;CN="Moderation Management":MAILTO:meetings@moderation.org
END:VEVENT
BEGIN:VEVENT
DTSTART;TZID=America/New_York:20261010T170000
DTEND;TZID=America/New_York:20261010T180000
DTSTAMP:20260425T171231
CREATED:20230118T231253Z
LAST-MODIFIED:20250506T174420Z
UID:10014924-1791651600-1791655200@moderation.org
SUMMARY:Strategy Saturday MM Video Meeting
DESCRIPTION:Come strategize with us at this MM video meeting\, where we’ll share our moderation goals\, successes\, learning opportunities and questions. Open to anyone concerned about their drinking. \nHappens every Saturday at 5PM Eastern\, 2PM Pacific\, 3PM Mountain\, 4PM Central Time \nTo join the meeting\, please click here!
URL:https://moderation.org/events/strategy-saturday-mm-video-meeting-2/2026-10-10/
ATTACH;FMTTYPE=image/jpeg:https://moderation.org/wp-content/uploads/2021/10/bullseye.jpeg
ORGANIZER;CN="Moderation Management":MAILTO:meetings@moderation.org
END:VEVENT
BEGIN:VEVENT
DTSTART;TZID=America/New_York:20261017T170000
DTEND;TZID=America/New_York:20261017T180000
DTSTAMP:20260425T171231
CREATED:20230118T231253Z
LAST-MODIFIED:20250506T174420Z
UID:10014925-1792256400-1792260000@moderation.org
SUMMARY:Strategy Saturday MM Video Meeting
DESCRIPTION:Come strategize with us at this MM video meeting\, where we’ll share our moderation goals\, successes\, learning opportunities and questions. Open to anyone concerned about their drinking. \nHappens every Saturday at 5PM Eastern\, 2PM Pacific\, 3PM Mountain\, 4PM Central Time \nTo join the meeting\, please click here!
URL:https://moderation.org/events/strategy-saturday-mm-video-meeting-2/2026-10-17/
ATTACH;FMTTYPE=image/jpeg:https://moderation.org/wp-content/uploads/2021/10/bullseye.jpeg
ORGANIZER;CN="Moderation Management":MAILTO:meetings@moderation.org
END:VEVENT
BEGIN:VEVENT
DTSTART;TZID=America/New_York:20261024T170000
DTEND;TZID=America/New_York:20261024T180000
DTSTAMP:20260425T171231
CREATED:20230118T231253Z
LAST-MODIFIED:20250506T174420Z
UID:10014926-1792861200-1792864800@moderation.org
SUMMARY:Strategy Saturday MM Video Meeting
DESCRIPTION:Come strategize with us at this MM video meeting\, where we’ll share our moderation goals\, successes\, learning opportunities and questions. Open to anyone concerned about their drinking. \nHappens every Saturday at 5PM Eastern\, 2PM Pacific\, 3PM Mountain\, 4PM Central Time \nTo join the meeting\, please click here!
URL:https://moderation.org/events/strategy-saturday-mm-video-meeting-2/2026-10-24/
ATTACH;FMTTYPE=image/jpeg:https://moderation.org/wp-content/uploads/2021/10/bullseye.jpeg
ORGANIZER;CN="Moderation Management":MAILTO:meetings@moderation.org
END:VEVENT
BEGIN:VEVENT
DTSTART;TZID=America/New_York:20261031T170000
DTEND;TZID=America/New_York:20261031T180000
DTSTAMP:20260425T171231
CREATED:20230118T231253Z
LAST-MODIFIED:20250506T174420Z
UID:10014927-1793466000-1793469600@moderation.org
SUMMARY:Strategy Saturday MM Video Meeting
DESCRIPTION:Come strategize with us at this MM video meeting\, where we’ll share our moderation goals\, successes\, learning opportunities and questions. Open to anyone concerned about their drinking. \nHappens every Saturday at 5PM Eastern\, 2PM Pacific\, 3PM Mountain\, 4PM Central Time \nTo join the meeting\, please click here!
URL:https://moderation.org/events/strategy-saturday-mm-video-meeting-2/2026-10-31/
ATTACH;FMTTYPE=image/jpeg:https://moderation.org/wp-content/uploads/2021/10/bullseye.jpeg
ORGANIZER;CN="Moderation Management":MAILTO:meetings@moderation.org
END:VEVENT
BEGIN:VEVENT
DTSTART;TZID=America/New_York:20261107T170000
DTEND;TZID=America/New_York:20261107T180000
DTSTAMP:20260425T171231
CREATED:20230118T231253Z
LAST-MODIFIED:20250506T174420Z
UID:10014928-1794070800-1794074400@moderation.org
SUMMARY:Strategy Saturday MM Video Meeting
DESCRIPTION:Come strategize with us at this MM video meeting\, where we’ll share our moderation goals\, successes\, learning opportunities and questions. Open to anyone concerned about their drinking. \nHappens every Saturday at 5PM Eastern\, 2PM Pacific\, 3PM Mountain\, 4PM Central Time \nTo join the meeting\, please click here!
URL:https://moderation.org/events/strategy-saturday-mm-video-meeting-2/2026-11-07/
ATTACH;FMTTYPE=image/jpeg:https://moderation.org/wp-content/uploads/2021/10/bullseye.jpeg
ORGANIZER;CN="Moderation Management":MAILTO:meetings@moderation.org
END:VEVENT
BEGIN:VEVENT
DTSTART;TZID=America/New_York:20261114T170000
DTEND;TZID=America/New_York:20261114T180000
DTSTAMP:20260425T171231
CREATED:20230118T231253Z
LAST-MODIFIED:20250506T174420Z
UID:10014929-1794675600-1794679200@moderation.org
SUMMARY:Strategy Saturday MM Video Meeting
DESCRIPTION:Come strategize with us at this MM video meeting\, where we’ll share our moderation goals\, successes\, learning opportunities and questions. Open to anyone concerned about their drinking. \nHappens every Saturday at 5PM Eastern\, 2PM Pacific\, 3PM Mountain\, 4PM Central Time \nTo join the meeting\, please click here!
URL:https://moderation.org/events/strategy-saturday-mm-video-meeting-2/2026-11-14/
ATTACH;FMTTYPE=image/jpeg:https://moderation.org/wp-content/uploads/2021/10/bullseye.jpeg
ORGANIZER;CN="Moderation Management":MAILTO:meetings@moderation.org
END:VEVENT
END:VCALENDAR