BEGIN:VCALENDAR
VERSION:2.0
PRODID:-//Moderation Management™ - ECPv6.15.20//NONSGML v1.0//EN
CALSCALE:GREGORIAN
METHOD:PUBLISH
X-WR-CALNAME:Moderation Management™
X-ORIGINAL-URL:https://moderation.org
X-WR-CALDESC:Events for Moderation Management™
REFRESH-INTERVAL;VALUE=DURATION:PT1H
X-Robots-Tag:noindex
X-PUBLISHED-TTL:PT1H
BEGIN:VTIMEZONE
TZID:America/New_York
BEGIN:DAYLIGHT
TZOFFSETFROM:-0500
TZOFFSETTO:-0400
TZNAME:EDT
DTSTART:20260308T070000
END:DAYLIGHT
BEGIN:STANDARD
TZOFFSETFROM:-0400
TZOFFSETTO:-0500
TZNAME:EST
DTSTART:20261101T060000
END:STANDARD
BEGIN:DAYLIGHT
TZOFFSETFROM:-0500
TZOFFSETTO:-0400
TZNAME:EDT
DTSTART:20270314T070000
END:DAYLIGHT
BEGIN:STANDARD
TZOFFSETFROM:-0400
TZOFFSETTO:-0500
TZNAME:EST
DTSTART:20271107T060000
END:STANDARD
BEGIN:DAYLIGHT
TZOFFSETFROM:-0500
TZOFFSETTO:-0400
TZNAME:EDT
DTSTART:20280312T070000
END:DAYLIGHT
BEGIN:STANDARD
TZOFFSETFROM:-0400
TZOFFSETTO:-0500
TZNAME:EST
DTSTART:20281105T060000
END:STANDARD
END:VTIMEZONE
BEGIN:VEVENT
DTSTART;TZID=America/New_York:20270203T183000
DTEND;TZID=America/New_York:20270203T193000
DTSTAMP:20260425T201816
CREATED:20250506T173258Z
LAST-MODIFIED:20260305T174233Z
UID:10009771-1801679400-1801683000@moderation.org
SUMMARY:Women's MM Video Meeting
DESCRIPTION:If you are a woman concerned about your drinking\, you are welcome to join the Women’s MM Video Meeting! \nWednesdays at 3:30PM Pacific Time\, 4:30PM Mountain\, 5:30PM Central\, 6:30PM Eastern Time \nYou can join with or without video\, but of course we would love to see your beautiful faces. \nFor the video link\, please contact the organizer by email: ConsciousDrinking@gmail.com
URL:https://moderation.org/events/womens-nyc-video-meeting-2/2027-02-03/
ATTACH;FMTTYPE=image/jpeg:https://moderation.org/wp-content/uploads/2021/08/video-meeting.jpeg
ORGANIZER;CN="Beej":MAILTO:ConsciousDrinking@gmail.com
END:VEVENT
BEGIN:VEVENT
DTSTART;TZID=America/New_York:20270210T183000
DTEND;TZID=America/New_York:20270210T193000
DTSTAMP:20260425T201816
CREATED:20250506T173258Z
LAST-MODIFIED:20260305T174233Z
UID:10009772-1802284200-1802287800@moderation.org
SUMMARY:Women's MM Video Meeting
DESCRIPTION:If you are a woman concerned about your drinking\, you are welcome to join the Women’s MM Video Meeting! \nWednesdays at 3:30PM Pacific Time\, 4:30PM Mountain\, 5:30PM Central\, 6:30PM Eastern Time \nYou can join with or without video\, but of course we would love to see your beautiful faces. \nFor the video link\, please contact the organizer by email: ConsciousDrinking@gmail.com
URL:https://moderation.org/events/womens-nyc-video-meeting-2/2027-02-10/
ATTACH;FMTTYPE=image/jpeg:https://moderation.org/wp-content/uploads/2021/08/video-meeting.jpeg
ORGANIZER;CN="Beej":MAILTO:ConsciousDrinking@gmail.com
END:VEVENT
BEGIN:VEVENT
DTSTART;TZID=America/New_York:20270217T183000
DTEND;TZID=America/New_York:20270217T193000
DTSTAMP:20260425T201816
CREATED:20250506T173258Z
LAST-MODIFIED:20260305T174233Z
UID:10009773-1802889000-1802892600@moderation.org
SUMMARY:Women's MM Video Meeting
DESCRIPTION:If you are a woman concerned about your drinking\, you are welcome to join the Women’s MM Video Meeting! \nWednesdays at 3:30PM Pacific Time\, 4:30PM Mountain\, 5:30PM Central\, 6:30PM Eastern Time \nYou can join with or without video\, but of course we would love to see your beautiful faces. \nFor the video link\, please contact the organizer by email: ConsciousDrinking@gmail.com
URL:https://moderation.org/events/womens-nyc-video-meeting-2/2027-02-17/
ATTACH;FMTTYPE=image/jpeg:https://moderation.org/wp-content/uploads/2021/08/video-meeting.jpeg
ORGANIZER;CN="Beej":MAILTO:ConsciousDrinking@gmail.com
END:VEVENT
BEGIN:VEVENT
DTSTART;TZID=America/New_York:20270224T183000
DTEND;TZID=America/New_York:20270224T193000
DTSTAMP:20260425T201816
CREATED:20250506T173258Z
LAST-MODIFIED:20260305T174233Z
UID:10009774-1803493800-1803497400@moderation.org
SUMMARY:Women's MM Video Meeting
DESCRIPTION:If you are a woman concerned about your drinking\, you are welcome to join the Women’s MM Video Meeting! \nWednesdays at 3:30PM Pacific Time\, 4:30PM Mountain\, 5:30PM Central\, 6:30PM Eastern Time \nYou can join with or without video\, but of course we would love to see your beautiful faces. \nFor the video link\, please contact the organizer by email: ConsciousDrinking@gmail.com
URL:https://moderation.org/events/womens-nyc-video-meeting-2/2027-02-24/
ATTACH;FMTTYPE=image/jpeg:https://moderation.org/wp-content/uploads/2021/08/video-meeting.jpeg
ORGANIZER;CN="Beej":MAILTO:ConsciousDrinking@gmail.com
END:VEVENT
BEGIN:VEVENT
DTSTART;TZID=America/New_York:20270303T183000
DTEND;TZID=America/New_York:20270303T193000
DTSTAMP:20260425T201816
CREATED:20250506T173258Z
LAST-MODIFIED:20260305T174233Z
UID:10009775-1804098600-1804102200@moderation.org
SUMMARY:Women's MM Video Meeting
DESCRIPTION:If you are a woman concerned about your drinking\, you are welcome to join the Women’s MM Video Meeting! \nWednesdays at 3:30PM Pacific Time\, 4:30PM Mountain\, 5:30PM Central\, 6:30PM Eastern Time \nYou can join with or without video\, but of course we would love to see your beautiful faces. \nFor the video link\, please contact the organizer by email: ConsciousDrinking@gmail.com
URL:https://moderation.org/events/womens-nyc-video-meeting-2/2027-03-03/
ATTACH;FMTTYPE=image/jpeg:https://moderation.org/wp-content/uploads/2021/08/video-meeting.jpeg
ORGANIZER;CN="Beej":MAILTO:ConsciousDrinking@gmail.com
END:VEVENT
BEGIN:VEVENT
DTSTART;TZID=America/New_York:20270310T183000
DTEND;TZID=America/New_York:20270310T193000
DTSTAMP:20260425T201816
CREATED:20250506T173258Z
LAST-MODIFIED:20260305T174233Z
UID:10009776-1804703400-1804707000@moderation.org
SUMMARY:Women's MM Video Meeting
DESCRIPTION:If you are a woman concerned about your drinking\, you are welcome to join the Women’s MM Video Meeting! \nWednesdays at 3:30PM Pacific Time\, 4:30PM Mountain\, 5:30PM Central\, 6:30PM Eastern Time \nYou can join with or without video\, but of course we would love to see your beautiful faces. \nFor the video link\, please contact the organizer by email: ConsciousDrinking@gmail.com
URL:https://moderation.org/events/womens-nyc-video-meeting-2/2027-03-10/
ATTACH;FMTTYPE=image/jpeg:https://moderation.org/wp-content/uploads/2021/08/video-meeting.jpeg
ORGANIZER;CN="Beej":MAILTO:ConsciousDrinking@gmail.com
END:VEVENT
BEGIN:VEVENT
DTSTART;TZID=America/New_York:20270317T183000
DTEND;TZID=America/New_York:20270317T193000
DTSTAMP:20260425T201816
CREATED:20250506T173258Z
LAST-MODIFIED:20260305T174233Z
UID:10009777-1805308200-1805311800@moderation.org
SUMMARY:Women's MM Video Meeting
DESCRIPTION:If you are a woman concerned about your drinking\, you are welcome to join the Women’s MM Video Meeting! \nWednesdays at 3:30PM Pacific Time\, 4:30PM Mountain\, 5:30PM Central\, 6:30PM Eastern Time \nYou can join with or without video\, but of course we would love to see your beautiful faces. \nFor the video link\, please contact the organizer by email: ConsciousDrinking@gmail.com
URL:https://moderation.org/events/womens-nyc-video-meeting-2/2027-03-17/
ATTACH;FMTTYPE=image/jpeg:https://moderation.org/wp-content/uploads/2021/08/video-meeting.jpeg
ORGANIZER;CN="Beej":MAILTO:ConsciousDrinking@gmail.com
END:VEVENT
BEGIN:VEVENT
DTSTART;TZID=America/New_York:20270324T183000
DTEND;TZID=America/New_York:20270324T193000
DTSTAMP:20260425T201816
CREATED:20250506T173258Z
LAST-MODIFIED:20260305T174233Z
UID:10009778-1805913000-1805916600@moderation.org
SUMMARY:Women's MM Video Meeting
DESCRIPTION:If you are a woman concerned about your drinking\, you are welcome to join the Women’s MM Video Meeting! \nWednesdays at 3:30PM Pacific Time\, 4:30PM Mountain\, 5:30PM Central\, 6:30PM Eastern Time \nYou can join with or without video\, but of course we would love to see your beautiful faces. \nFor the video link\, please contact the organizer by email: ConsciousDrinking@gmail.com
URL:https://moderation.org/events/womens-nyc-video-meeting-2/2027-03-24/
ATTACH;FMTTYPE=image/jpeg:https://moderation.org/wp-content/uploads/2021/08/video-meeting.jpeg
ORGANIZER;CN="Beej":MAILTO:ConsciousDrinking@gmail.com
END:VEVENT
BEGIN:VEVENT
DTSTART;TZID=America/New_York:20270331T183000
DTEND;TZID=America/New_York:20270331T193000
DTSTAMP:20260425T201816
CREATED:20250506T173258Z
LAST-MODIFIED:20260305T174233Z
UID:10009779-1806517800-1806521400@moderation.org
SUMMARY:Women's MM Video Meeting
DESCRIPTION:If you are a woman concerned about your drinking\, you are welcome to join the Women’s MM Video Meeting! \nWednesdays at 3:30PM Pacific Time\, 4:30PM Mountain\, 5:30PM Central\, 6:30PM Eastern Time \nYou can join with or without video\, but of course we would love to see your beautiful faces. \nFor the video link\, please contact the organizer by email: ConsciousDrinking@gmail.com
URL:https://moderation.org/events/womens-nyc-video-meeting-2/2027-03-31/
ATTACH;FMTTYPE=image/jpeg:https://moderation.org/wp-content/uploads/2021/08/video-meeting.jpeg
ORGANIZER;CN="Beej":MAILTO:ConsciousDrinking@gmail.com
END:VEVENT
BEGIN:VEVENT
DTSTART;TZID=America/New_York:20270407T183000
DTEND;TZID=America/New_York:20270407T193000
DTSTAMP:20260425T201816
CREATED:20250506T173258Z
LAST-MODIFIED:20260305T174233Z
UID:10009780-1807122600-1807126200@moderation.org
SUMMARY:Women's MM Video Meeting
DESCRIPTION:If you are a woman concerned about your drinking\, you are welcome to join the Women’s MM Video Meeting! \nWednesdays at 3:30PM Pacific Time\, 4:30PM Mountain\, 5:30PM Central\, 6:30PM Eastern Time \nYou can join with or without video\, but of course we would love to see your beautiful faces. \nFor the video link\, please contact the organizer by email: ConsciousDrinking@gmail.com
URL:https://moderation.org/events/womens-nyc-video-meeting-2/2027-04-07/
ATTACH;FMTTYPE=image/jpeg:https://moderation.org/wp-content/uploads/2021/08/video-meeting.jpeg
ORGANIZER;CN="Beej":MAILTO:ConsciousDrinking@gmail.com
END:VEVENT
BEGIN:VEVENT
DTSTART;TZID=America/New_York:20270414T183000
DTEND;TZID=America/New_York:20270414T193000
DTSTAMP:20260425T201816
CREATED:20250506T173258Z
LAST-MODIFIED:20260305T174233Z
UID:10009781-1807727400-1807731000@moderation.org
SUMMARY:Women's MM Video Meeting
DESCRIPTION:If you are a woman concerned about your drinking\, you are welcome to join the Women’s MM Video Meeting! \nWednesdays at 3:30PM Pacific Time\, 4:30PM Mountain\, 5:30PM Central\, 6:30PM Eastern Time \nYou can join with or without video\, but of course we would love to see your beautiful faces. \nFor the video link\, please contact the organizer by email: ConsciousDrinking@gmail.com
URL:https://moderation.org/events/womens-nyc-video-meeting-2/2027-04-14/
ATTACH;FMTTYPE=image/jpeg:https://moderation.org/wp-content/uploads/2021/08/video-meeting.jpeg
ORGANIZER;CN="Beej":MAILTO:ConsciousDrinking@gmail.com
END:VEVENT
BEGIN:VEVENT
DTSTART;TZID=America/New_York:20270421T183000
DTEND;TZID=America/New_York:20270421T193000
DTSTAMP:20260425T201816
CREATED:20250506T173258Z
LAST-MODIFIED:20260305T174233Z
UID:10009782-1808332200-1808335800@moderation.org
SUMMARY:Women's MM Video Meeting
DESCRIPTION:If you are a woman concerned about your drinking\, you are welcome to join the Women’s MM Video Meeting! \nWednesdays at 3:30PM Pacific Time\, 4:30PM Mountain\, 5:30PM Central\, 6:30PM Eastern Time \nYou can join with or without video\, but of course we would love to see your beautiful faces. \nFor the video link\, please contact the organizer by email: ConsciousDrinking@gmail.com
URL:https://moderation.org/events/womens-nyc-video-meeting-2/2027-04-21/
ATTACH;FMTTYPE=image/jpeg:https://moderation.org/wp-content/uploads/2021/08/video-meeting.jpeg
ORGANIZER;CN="Beej":MAILTO:ConsciousDrinking@gmail.com
END:VEVENT
BEGIN:VEVENT
DTSTART;TZID=America/New_York:20270428T183000
DTEND;TZID=America/New_York:20270428T193000
DTSTAMP:20260425T201816
CREATED:20250506T173258Z
LAST-MODIFIED:20260305T174233Z
UID:10009783-1808937000-1808940600@moderation.org
SUMMARY:Women's MM Video Meeting
DESCRIPTION:If you are a woman concerned about your drinking\, you are welcome to join the Women’s MM Video Meeting! \nWednesdays at 3:30PM Pacific Time\, 4:30PM Mountain\, 5:30PM Central\, 6:30PM Eastern Time \nYou can join with or without video\, but of course we would love to see your beautiful faces. \nFor the video link\, please contact the organizer by email: ConsciousDrinking@gmail.com
URL:https://moderation.org/events/womens-nyc-video-meeting-2/2027-04-28/
ATTACH;FMTTYPE=image/jpeg:https://moderation.org/wp-content/uploads/2021/08/video-meeting.jpeg
ORGANIZER;CN="Beej":MAILTO:ConsciousDrinking@gmail.com
END:VEVENT
BEGIN:VEVENT
DTSTART;TZID=America/New_York:20270505T183000
DTEND;TZID=America/New_York:20270505T193000
DTSTAMP:20260425T201816
CREATED:20250506T173258Z
LAST-MODIFIED:20260305T174233Z
UID:10009784-1809541800-1809545400@moderation.org
SUMMARY:Women's MM Video Meeting
DESCRIPTION:If you are a woman concerned about your drinking\, you are welcome to join the Women’s MM Video Meeting! \nWednesdays at 3:30PM Pacific Time\, 4:30PM Mountain\, 5:30PM Central\, 6:30PM Eastern Time \nYou can join with or without video\, but of course we would love to see your beautiful faces. \nFor the video link\, please contact the organizer by email: ConsciousDrinking@gmail.com
URL:https://moderation.org/events/womens-nyc-video-meeting-2/2027-05-05/
ATTACH;FMTTYPE=image/jpeg:https://moderation.org/wp-content/uploads/2021/08/video-meeting.jpeg
ORGANIZER;CN="Beej":MAILTO:ConsciousDrinking@gmail.com
END:VEVENT
BEGIN:VEVENT
DTSTART;TZID=America/New_York:20270512T183000
DTEND;TZID=America/New_York:20270512T193000
DTSTAMP:20260425T201816
CREATED:20250506T173258Z
LAST-MODIFIED:20260305T174233Z
UID:10009785-1810146600-1810150200@moderation.org
SUMMARY:Women's MM Video Meeting
DESCRIPTION:If you are a woman concerned about your drinking\, you are welcome to join the Women’s MM Video Meeting! \nWednesdays at 3:30PM Pacific Time\, 4:30PM Mountain\, 5:30PM Central\, 6:30PM Eastern Time \nYou can join with or without video\, but of course we would love to see your beautiful faces. \nFor the video link\, please contact the organizer by email: ConsciousDrinking@gmail.com
URL:https://moderation.org/events/womens-nyc-video-meeting-2/2027-05-12/
ATTACH;FMTTYPE=image/jpeg:https://moderation.org/wp-content/uploads/2021/08/video-meeting.jpeg
ORGANIZER;CN="Beej":MAILTO:ConsciousDrinking@gmail.com
END:VEVENT
BEGIN:VEVENT
DTSTART;TZID=America/New_York:20270519T183000
DTEND;TZID=America/New_York:20270519T193000
DTSTAMP:20260425T201816
CREATED:20250506T173258Z
LAST-MODIFIED:20260305T174233Z
UID:10009786-1810751400-1810755000@moderation.org
SUMMARY:Women's MM Video Meeting
DESCRIPTION:If you are a woman concerned about your drinking\, you are welcome to join the Women’s MM Video Meeting! \nWednesdays at 3:30PM Pacific Time\, 4:30PM Mountain\, 5:30PM Central\, 6:30PM Eastern Time \nYou can join with or without video\, but of course we would love to see your beautiful faces. \nFor the video link\, please contact the organizer by email: ConsciousDrinking@gmail.com
URL:https://moderation.org/events/womens-nyc-video-meeting-2/2027-05-19/
ATTACH;FMTTYPE=image/jpeg:https://moderation.org/wp-content/uploads/2021/08/video-meeting.jpeg
ORGANIZER;CN="Beej":MAILTO:ConsciousDrinking@gmail.com
END:VEVENT
BEGIN:VEVENT
DTSTART;TZID=America/New_York:20270526T183000
DTEND;TZID=America/New_York:20270526T193000
DTSTAMP:20260425T201816
CREATED:20250506T173258Z
LAST-MODIFIED:20260305T174233Z
UID:10009787-1811356200-1811359800@moderation.org
SUMMARY:Women's MM Video Meeting
DESCRIPTION:If you are a woman concerned about your drinking\, you are welcome to join the Women’s MM Video Meeting! \nWednesdays at 3:30PM Pacific Time\, 4:30PM Mountain\, 5:30PM Central\, 6:30PM Eastern Time \nYou can join with or without video\, but of course we would love to see your beautiful faces. \nFor the video link\, please contact the organizer by email: ConsciousDrinking@gmail.com
URL:https://moderation.org/events/womens-nyc-video-meeting-2/2027-05-26/
ATTACH;FMTTYPE=image/jpeg:https://moderation.org/wp-content/uploads/2021/08/video-meeting.jpeg
ORGANIZER;CN="Beej":MAILTO:ConsciousDrinking@gmail.com
END:VEVENT
BEGIN:VEVENT
DTSTART;TZID=America/New_York:20270602T183000
DTEND;TZID=America/New_York:20270602T193000
DTSTAMP:20260425T201816
CREATED:20250506T173258Z
LAST-MODIFIED:20260305T174233Z
UID:10009788-1811961000-1811964600@moderation.org
SUMMARY:Women's MM Video Meeting
DESCRIPTION:If you are a woman concerned about your drinking\, you are welcome to join the Women’s MM Video Meeting! \nWednesdays at 3:30PM Pacific Time\, 4:30PM Mountain\, 5:30PM Central\, 6:30PM Eastern Time \nYou can join with or without video\, but of course we would love to see your beautiful faces. \nFor the video link\, please contact the organizer by email: ConsciousDrinking@gmail.com
URL:https://moderation.org/events/womens-nyc-video-meeting-2/2027-06-02/
ATTACH;FMTTYPE=image/jpeg:https://moderation.org/wp-content/uploads/2021/08/video-meeting.jpeg
ORGANIZER;CN="Beej":MAILTO:ConsciousDrinking@gmail.com
END:VEVENT
BEGIN:VEVENT
DTSTART;TZID=America/New_York:20270609T183000
DTEND;TZID=America/New_York:20270609T193000
DTSTAMP:20260425T201816
CREATED:20250506T173258Z
LAST-MODIFIED:20260305T174233Z
UID:10009789-1812565800-1812569400@moderation.org
SUMMARY:Women's MM Video Meeting
DESCRIPTION:If you are a woman concerned about your drinking\, you are welcome to join the Women’s MM Video Meeting! \nWednesdays at 3:30PM Pacific Time\, 4:30PM Mountain\, 5:30PM Central\, 6:30PM Eastern Time \nYou can join with or without video\, but of course we would love to see your beautiful faces. \nFor the video link\, please contact the organizer by email: ConsciousDrinking@gmail.com
URL:https://moderation.org/events/womens-nyc-video-meeting-2/2027-06-09/
ATTACH;FMTTYPE=image/jpeg:https://moderation.org/wp-content/uploads/2021/08/video-meeting.jpeg
ORGANIZER;CN="Beej":MAILTO:ConsciousDrinking@gmail.com
END:VEVENT
BEGIN:VEVENT
DTSTART;TZID=America/New_York:20270616T183000
DTEND;TZID=America/New_York:20270616T193000
DTSTAMP:20260425T201816
CREATED:20250506T173258Z
LAST-MODIFIED:20260305T174233Z
UID:10009790-1813170600-1813174200@moderation.org
SUMMARY:Women's MM Video Meeting
DESCRIPTION:If you are a woman concerned about your drinking\, you are welcome to join the Women’s MM Video Meeting! \nWednesdays at 3:30PM Pacific Time\, 4:30PM Mountain\, 5:30PM Central\, 6:30PM Eastern Time \nYou can join with or without video\, but of course we would love to see your beautiful faces. \nFor the video link\, please contact the organizer by email: ConsciousDrinking@gmail.com
URL:https://moderation.org/events/womens-nyc-video-meeting-2/2027-06-16/
ATTACH;FMTTYPE=image/jpeg:https://moderation.org/wp-content/uploads/2021/08/video-meeting.jpeg
ORGANIZER;CN="Beej":MAILTO:ConsciousDrinking@gmail.com
END:VEVENT
BEGIN:VEVENT
DTSTART;TZID=America/New_York:20270623T183000
DTEND;TZID=America/New_York:20270623T193000
DTSTAMP:20260425T201816
CREATED:20250506T173258Z
LAST-MODIFIED:20260305T174233Z
UID:10009791-1813775400-1813779000@moderation.org
SUMMARY:Women's MM Video Meeting
DESCRIPTION:If you are a woman concerned about your drinking\, you are welcome to join the Women’s MM Video Meeting! \nWednesdays at 3:30PM Pacific Time\, 4:30PM Mountain\, 5:30PM Central\, 6:30PM Eastern Time \nYou can join with or without video\, but of course we would love to see your beautiful faces. \nFor the video link\, please contact the organizer by email: ConsciousDrinking@gmail.com
URL:https://moderation.org/events/womens-nyc-video-meeting-2/2027-06-23/
ATTACH;FMTTYPE=image/jpeg:https://moderation.org/wp-content/uploads/2021/08/video-meeting.jpeg
ORGANIZER;CN="Beej":MAILTO:ConsciousDrinking@gmail.com
END:VEVENT
BEGIN:VEVENT
DTSTART;TZID=America/New_York:20270630T183000
DTEND;TZID=America/New_York:20270630T193000
DTSTAMP:20260425T201816
CREATED:20250506T173258Z
LAST-MODIFIED:20260305T174233Z
UID:10009792-1814380200-1814383800@moderation.org
SUMMARY:Women's MM Video Meeting
DESCRIPTION:If you are a woman concerned about your drinking\, you are welcome to join the Women’s MM Video Meeting! \nWednesdays at 3:30PM Pacific Time\, 4:30PM Mountain\, 5:30PM Central\, 6:30PM Eastern Time \nYou can join with or without video\, but of course we would love to see your beautiful faces. \nFor the video link\, please contact the organizer by email: ConsciousDrinking@gmail.com
URL:https://moderation.org/events/womens-nyc-video-meeting-2/2027-06-30/
ATTACH;FMTTYPE=image/jpeg:https://moderation.org/wp-content/uploads/2021/08/video-meeting.jpeg
ORGANIZER;CN="Beej":MAILTO:ConsciousDrinking@gmail.com
END:VEVENT
BEGIN:VEVENT
DTSTART;TZID=America/New_York:20270707T183000
DTEND;TZID=America/New_York:20270707T193000
DTSTAMP:20260425T201816
CREATED:20250506T173258Z
LAST-MODIFIED:20260305T174233Z
UID:10009793-1814985000-1814988600@moderation.org
SUMMARY:Women's MM Video Meeting
DESCRIPTION:If you are a woman concerned about your drinking\, you are welcome to join the Women’s MM Video Meeting! \nWednesdays at 3:30PM Pacific Time\, 4:30PM Mountain\, 5:30PM Central\, 6:30PM Eastern Time \nYou can join with or without video\, but of course we would love to see your beautiful faces. \nFor the video link\, please contact the organizer by email: ConsciousDrinking@gmail.com
URL:https://moderation.org/events/womens-nyc-video-meeting-2/2027-07-07/
ATTACH;FMTTYPE=image/jpeg:https://moderation.org/wp-content/uploads/2021/08/video-meeting.jpeg
ORGANIZER;CN="Beej":MAILTO:ConsciousDrinking@gmail.com
END:VEVENT
BEGIN:VEVENT
DTSTART;TZID=America/New_York:20270714T183000
DTEND;TZID=America/New_York:20270714T193000
DTSTAMP:20260425T201816
CREATED:20250506T173258Z
LAST-MODIFIED:20260305T174233Z
UID:10009794-1815589800-1815593400@moderation.org
SUMMARY:Women's MM Video Meeting
DESCRIPTION:If you are a woman concerned about your drinking\, you are welcome to join the Women’s MM Video Meeting! \nWednesdays at 3:30PM Pacific Time\, 4:30PM Mountain\, 5:30PM Central\, 6:30PM Eastern Time \nYou can join with or without video\, but of course we would love to see your beautiful faces. \nFor the video link\, please contact the organizer by email: ConsciousDrinking@gmail.com
URL:https://moderation.org/events/womens-nyc-video-meeting-2/2027-07-14/
ATTACH;FMTTYPE=image/jpeg:https://moderation.org/wp-content/uploads/2021/08/video-meeting.jpeg
ORGANIZER;CN="Beej":MAILTO:ConsciousDrinking@gmail.com
END:VEVENT
BEGIN:VEVENT
DTSTART;TZID=America/New_York:20270721T183000
DTEND;TZID=America/New_York:20270721T193000
DTSTAMP:20260425T201816
CREATED:20250506T173258Z
LAST-MODIFIED:20260305T174233Z
UID:10009795-1816194600-1816198200@moderation.org
SUMMARY:Women's MM Video Meeting
DESCRIPTION:If you are a woman concerned about your drinking\, you are welcome to join the Women’s MM Video Meeting! \nWednesdays at 3:30PM Pacific Time\, 4:30PM Mountain\, 5:30PM Central\, 6:30PM Eastern Time \nYou can join with or without video\, but of course we would love to see your beautiful faces. \nFor the video link\, please contact the organizer by email: ConsciousDrinking@gmail.com
URL:https://moderation.org/events/womens-nyc-video-meeting-2/2027-07-21/
ATTACH;FMTTYPE=image/jpeg:https://moderation.org/wp-content/uploads/2021/08/video-meeting.jpeg
ORGANIZER;CN="Beej":MAILTO:ConsciousDrinking@gmail.com
END:VEVENT
BEGIN:VEVENT
DTSTART;TZID=America/New_York:20270728T183000
DTEND;TZID=America/New_York:20270728T193000
DTSTAMP:20260425T201816
CREATED:20250506T173258Z
LAST-MODIFIED:20260305T174233Z
UID:10009796-1816799400-1816803000@moderation.org
SUMMARY:Women's MM Video Meeting
DESCRIPTION:If you are a woman concerned about your drinking\, you are welcome to join the Women’s MM Video Meeting! \nWednesdays at 3:30PM Pacific Time\, 4:30PM Mountain\, 5:30PM Central\, 6:30PM Eastern Time \nYou can join with or without video\, but of course we would love to see your beautiful faces. \nFor the video link\, please contact the organizer by email: ConsciousDrinking@gmail.com
URL:https://moderation.org/events/womens-nyc-video-meeting-2/2027-07-28/
ATTACH;FMTTYPE=image/jpeg:https://moderation.org/wp-content/uploads/2021/08/video-meeting.jpeg
ORGANIZER;CN="Beej":MAILTO:ConsciousDrinking@gmail.com
END:VEVENT
BEGIN:VEVENT
DTSTART;TZID=America/New_York:20270804T183000
DTEND;TZID=America/New_York:20270804T193000
DTSTAMP:20260425T201816
CREATED:20250506T173258Z
LAST-MODIFIED:20260305T174233Z
UID:10009797-1817404200-1817407800@moderation.org
SUMMARY:Women's MM Video Meeting
DESCRIPTION:If you are a woman concerned about your drinking\, you are welcome to join the Women’s MM Video Meeting! \nWednesdays at 3:30PM Pacific Time\, 4:30PM Mountain\, 5:30PM Central\, 6:30PM Eastern Time \nYou can join with or without video\, but of course we would love to see your beautiful faces. \nFor the video link\, please contact the organizer by email: ConsciousDrinking@gmail.com
URL:https://moderation.org/events/womens-nyc-video-meeting-2/2027-08-04/
ATTACH;FMTTYPE=image/jpeg:https://moderation.org/wp-content/uploads/2021/08/video-meeting.jpeg
ORGANIZER;CN="Beej":MAILTO:ConsciousDrinking@gmail.com
END:VEVENT
BEGIN:VEVENT
DTSTART;TZID=America/New_York:20270811T183000
DTEND;TZID=America/New_York:20270811T193000
DTSTAMP:20260425T201816
CREATED:20250506T173258Z
LAST-MODIFIED:20260305T174233Z
UID:10009798-1818009000-1818012600@moderation.org
SUMMARY:Women's MM Video Meeting
DESCRIPTION:If you are a woman concerned about your drinking\, you are welcome to join the Women’s MM Video Meeting! \nWednesdays at 3:30PM Pacific Time\, 4:30PM Mountain\, 5:30PM Central\, 6:30PM Eastern Time \nYou can join with or without video\, but of course we would love to see your beautiful faces. \nFor the video link\, please contact the organizer by email: ConsciousDrinking@gmail.com
URL:https://moderation.org/events/womens-nyc-video-meeting-2/2027-08-11/
ATTACH;FMTTYPE=image/jpeg:https://moderation.org/wp-content/uploads/2021/08/video-meeting.jpeg
ORGANIZER;CN="Beej":MAILTO:ConsciousDrinking@gmail.com
END:VEVENT
BEGIN:VEVENT
DTSTART;TZID=America/New_York:20270818T183000
DTEND;TZID=America/New_York:20270818T193000
DTSTAMP:20260425T201816
CREATED:20250506T173258Z
LAST-MODIFIED:20260305T174233Z
UID:10009799-1818613800-1818617400@moderation.org
SUMMARY:Women's MM Video Meeting
DESCRIPTION:If you are a woman concerned about your drinking\, you are welcome to join the Women’s MM Video Meeting! \nWednesdays at 3:30PM Pacific Time\, 4:30PM Mountain\, 5:30PM Central\, 6:30PM Eastern Time \nYou can join with or without video\, but of course we would love to see your beautiful faces. \nFor the video link\, please contact the organizer by email: ConsciousDrinking@gmail.com
URL:https://moderation.org/events/womens-nyc-video-meeting-2/2027-08-18/
ATTACH;FMTTYPE=image/jpeg:https://moderation.org/wp-content/uploads/2021/08/video-meeting.jpeg
ORGANIZER;CN="Beej":MAILTO:ConsciousDrinking@gmail.com
END:VEVENT
BEGIN:VEVENT
DTSTART;TZID=America/New_York:20270825T183000
DTEND;TZID=America/New_York:20270825T193000
DTSTAMP:20260425T201816
CREATED:20250506T173258Z
LAST-MODIFIED:20260305T174233Z
UID:10009800-1819218600-1819222200@moderation.org
SUMMARY:Women's MM Video Meeting
DESCRIPTION:If you are a woman concerned about your drinking\, you are welcome to join the Women’s MM Video Meeting! \nWednesdays at 3:30PM Pacific Time\, 4:30PM Mountain\, 5:30PM Central\, 6:30PM Eastern Time \nYou can join with or without video\, but of course we would love to see your beautiful faces. \nFor the video link\, please contact the organizer by email: ConsciousDrinking@gmail.com
URL:https://moderation.org/events/womens-nyc-video-meeting-2/2027-08-25/
ATTACH;FMTTYPE=image/jpeg:https://moderation.org/wp-content/uploads/2021/08/video-meeting.jpeg
ORGANIZER;CN="Beej":MAILTO:ConsciousDrinking@gmail.com
END:VEVENT
END:VCALENDAR